BEGIN:VCALENDAR
VERSION:2.0
PRODID:-//ChamberMaster//Event Calendar 2.0//EN
METHOD:PUBLISH
X-PUBLISHED-TTL:P3D
REFRESH-INTERVAL:P3D
CALSCALE:GREGORIAN
BEGIN:VEVENT
DTSTART:20200919T220000Z
DTEND:20200920T003000Z
X-MICROSOFT-CDO-ALLDAYEVENT:FALSE
SUMMARY:The Great Jigsaw Puzzle Race on Zoom
DESCRIPTION:Race against other families to put together a 1000-piece jigsaw puzzle. (Families with kids Grades K to 6)\, limited to 15 families\n\nRegistrants will be notified when their puzzle is available for courtyard pick-up. Please only take a puzzle if you plan to participate in this live Zoom program.\n\nRegister with an email address to receive a Zoom login about an hour before the program.\n\nRegistration closes Wednesday\, September 16.
X-ALT-DESC;FMTTYPE=text/html:Race against other families to put together a 1000-piece jigsaw puzzle. (Families with kids Grades K to 6)\, limited to 15 families\n\nRegistrants will be notified when their puzzle is available for courtyard pick-up. Please only take a puzzle if you plan to participate in this live Zoom program.\n\nRegister with an email address to receive a Zoom login about an hour before the program.\n\nRegistration closes Wednesday\, September 16.
LOCATION:Granville Public Library via Zoom
UID:e.180.14589
SEQUENCE:3
DTSTAMP:20260422T071958Z
URL:https://business.granvilleoh.com/events/details/the-great-jigsaw-puzzle-race-on-zoom-14589
END:VEVENT

END:VCALENDAR
