BEGIN:VCALENDAR
VERSION:2.0
PRODID:-//ChamberMaster//Event Calendar 2.0//EN
METHOD:PUBLISH
X-PUBLISHED-TTL:P3D
REFRESH-INTERVAL:P3D
CALSCALE:GREGORIAN
BEGIN:VEVENT
DTSTART:20210911T220000Z
DTEND:20210912T003000Z
X-MICROSOFT-CDO-ALLDAYEVENT:FALSE
SUMMARY:The Great Puzzle Race on Zoom
DESCRIPTION:Race against other families to put together a jigsaw puzzle. Registrants will be notified when their puzzle is available for pick-up. Please only take a puzzle if you plan to participate in this live Zoom program. Families with kids Grades K to 6. Register to receive a link about an hour before the program. Register at GranvilleLibrary.org/calendar/month
X-ALT-DESC;FMTTYPE=text/html:Race against other families to put together a jigsaw puzzle. Registrants will be notified when their puzzle is available for pick-up. Please only take a puzzle if you plan to participate in this live Zoom program. Families with kids Grades K to 6. Register to receive a link about an hour before the program. Register at GranvilleLibrary.org/calendar/month
LOCATION:Granville Public Library via Zoom
UID:e.180.16050
SEQUENCE:3
DTSTAMP:20260421T151711Z
URL:https://business.granvilleoh.com/events/details/the-great-puzzle-race-on-zoom-16050
END:VEVENT

END:VCALENDAR
