BEGIN:VCALENDAR
VERSION:2.0
PRODID:-//ChamberMaster//Event Calendar 2.0//EN
METHOD:PUBLISH
X-PUBLISHED-TTL:P3D
REFRESH-INTERVAL:P3D
CALSCALE:GREGORIAN
BEGIN:VEVENT
DTSTART:20210130T230000Z
DTEND:20210131T013000Z
X-MICROSOFT-CDO-ALLDAYEVENT:FALSE
SUMMARY:The Great Winter Puzzle Race
DESCRIPTION:Race against other families to put together a 750-piece jigsaw puzzle. Registrants will be notified when their puzzle is available for pick-up. Please only take a puzzle if you plan to participate in this live Zoom program. Families with kids Grades K to 6)\, limited to 15 families. Register at GranvilleLibrary.org/calendar/month
X-ALT-DESC;FMTTYPE=text/html:Race against other families to put together a 750-piece jigsaw puzzle. Registrants will be notified when their puzzle is available for pick-up. Please only take a puzzle if you plan to participate in this live Zoom program. Families with kids Grades K to 6)\, limited to 15 families. Register at GranvilleLibrary.org/calendar/month
LOCATION:Granville Public Library
UID:e.180.14715
SEQUENCE:3
DTSTAMP:20260422T004851Z
URL:https://business.granvilleoh.com/events/details/the-great-winter-puzzle-race-14715
END:VEVENT

END:VCALENDAR
