BEGIN:VCALENDAR
VERSION:2.0
PRODID:-//ChamberMaster//Event Calendar 2.0//EN
METHOD:PUBLISH
X-PUBLISHED-TTL:P3D
REFRESH-INTERVAL:P3D
CALSCALE:GREGORIAN
BEGIN:VEVENT
DTSTART:20200310T190000Z
DTEND:20200310T200000Z
X-MICROSOFT-CDO-ALLDAYEVENT:FALSE
SUMMARY:The 'Hype4Homer' Project
DESCRIPTION:The Denison Museum presents the "Hype4Homer" Project with a special performance of a selection from an unabridged translation of Homer's "Iliad" into the work's first hip-hop audio book- "The Trilliad."\n\n\n\n"Hype4homer" translates and adapts ancient Greek epic and lyric poetry from its original language into musical audiobooks and live performance-pieces using the linguistic\, cultural\, and artistic idioms of contemporary hip hop and R&B. \nPerformance by Brandon Bourgeois\, PhD assistant professor of classics at the University of Southern California.\n\nSponsored by: Departments of Classics and Communication\, Black Studies\, the Denison Museum\, and the Africanists Research Table.\n\nIn conjunction with the Black Studies Program 50th anniversary celebration.
X-ALT-DESC;FMTTYPE=text/html:<span style="background-color:transparent\; color:rgb(0\, 0\, 0)\; font-family:arial\; font-size:11pt">The Denison Museum presents the &quot\;Hype4Homer&quot\; Project with a special performance of a selection from an unabridged translation of Homer&#39\;s &ldquo\;Iliad&rdquo\; into the work&#39\;s first hip-hop audio book- &quot\;The Trilliad.&quot\;</span><br />\n<br />\n<span style="background-color:transparent\; color:rgb(0\, 0\, 0)\; font-family:arial\; font-size:11pt">&quot\;Hype4homer&quot\; translates and adapts ancient Greek epic and lyric poetry from its original language into musical audiobooks and live performance-pieces using the linguistic\, cultural\, and artistic idioms of contemporary hip hop and R&amp\;B.&nbsp\;</span>\n<p><span style="background-color:transparent\; color:rgb(0\, 0\, 0)\; font-family:arial\; font-size:11pt">Performance by </span><span style="color:rgb(0\, 0\, 0)\; font-family:arial\; font-size:11pt">Brandon Bourgeois\, </span><span style="background-color:transparent\; color:rgb(0\, 0\, 0)\; font-family:arial\; font-size:11pt">PhD assistant professor of classics at the University of Southern California.</span></p>\n\n<p><span style="background-color:transparent\; color:rgb(0\, 0\, 0)\; font-family:arial\; font-size:11pt">Sponsored by: Departments of Classics and Communication\, Black Studies\, the Denison Museum\, and the Africanists Research Table.</span></p>\n\n<p><span style="background-color:transparent\; color:rgb(0\, 0\, 0)\; font-family:arial\; font-size:11pt">In conjunction with the Black Studies Program 50th anniversary celebration.&nbsp\;&nbsp\;&nbsp\;</span></p>\n\n<div>&nbsp\;</div>\n<span style="background-color:transparent\; color:rgb(0\, 0\, 0)\; font-family:arial\; font-size:11pt"> </span>
LOCATION:Denison Unversity Denison Museum in the Michael D. Eisner Center for the Performing Arts 240 West Broadway
UID:e.180.14374
SEQUENCE:3
DTSTAMP:20260422T141749Z
URL:https://business.granvilleoh.com/events/details/the-hype4homer-project-14374
END:VEVENT

END:VCALENDAR
