BEGIN:VCALENDAR
VERSION:2.0
PRODID:-//ChamberMaster//Event Calendar 2.0//EN
METHOD:PUBLISH
X-PUBLISHED-TTL:P3D
REFRESH-INTERVAL:P3D
CALSCALE:GREGORIAN
BEGIN:VEVENT
DTSTART:20210415T153000Z
DTEND:20210415T170000Z
X-MICROSOFT-CDO-ALLDAYEVENT:FALSE
SUMMARY:The New Storytellers: 'Future of Local Journalism'
DESCRIPTION:Narrative Journalism at Denison University and Between Coasts welcomes you to join us for The New Storytellers: a series of conversations about narrative journalism today at 11:30 a.m. on Thursdays this spring.\n\n\n\nThe New Storytellers: "Future of Local Journalism"\n\n\n\nA discussion focused on nonprofit newsrooms\, multi-platform innovation\, and how to create a more informed democracy by serving underserved communities and audiences.\nPanelist: Tracie Powell\, founder of alldigitocracy.org\, board member at LION publishers\n\nPanelist: Ryan Nave\, editor-in-chief of Reckon\n\nPanelist: Tyler Buchanan\, political reporter at Ohio Capital Journal\n\nEvents are funded by the Andrew W. Mellon Foundation and a gift by Sue Douthit O'Donnell '67.\n\n\n\nThe events are free and open to the public and will take place over Zoom. Registrants will receive the event's Zoom log-in information prior to the event(s). Register at bit.ly/NJ-spring-events.
X-ALT-DESC;FMTTYPE=text/html:<span style="color:rgb(0\, 0\, 0)\; font-family:arial\; font-size:14.6667px">Narrative Journalism at Denison University and Between Coasts welcomes you to join us for The New Storytellers: a series of conversations about narrative journalism today at 11:30 a.m. on Thursdays this spring.</span><br />\n<br />\n<span style="font-size:11pt">The New Storytellers: &quot\;</span>Future of Local Journalism&quot\;<br />\n<br />\n<span style="background-color:transparent\; color:rgb(0\, 0\, 0)\; font-family:arial\; font-size:11pt">A discussion focused on nonprofit newsrooms\, multi-platform innovation\, and how to create a more informed democracy by serving underserved communities and audiences.</span>\n<p><span style="background-color:transparent\; color:rgb(0\, 0\, 0)\; font-family:arial\; font-size:11pt">Panelist: Tracie Powell\, founder of <a href="http://alldigitocracy.org/" style="color: rgb(17\, 85\, 204)\;" target="_blank">alldigitocracy.org</a>\, board member at LION publishers</span></p>\n\n<p><span style="background-color:transparent\; color:rgb(0\, 0\, 0)\; font-family:arial\; font-size:11pt">Panelist: Ryan Nave\, editor-in-chief of Reckon</span></p>\n\n<p><span style="background-color:transparent\; color:rgb(0\, 0\, 0)\; font-family:arial\; font-size:11pt">Panelist: Tyler Buchanan\, political reporter at Ohio Capital Journal</span></p>\n\n<p><span style="color:rgb(0\, 0\, 0)\; font-family:arial\; font-size:14.6667px">Events are funded by the Andrew W. Mellon Foundation and a gift by Sue Douthit O&#39\;Donnell &#39\;67.</span><br />\n<br />\n<span style="color:rgb(0\, 0\, 0)\; font-family:arial\; font-size:14.6667px">The events are free and open to the public and will take place over Zoom. Registrants will receive the event&#39\;s Zoom log-in information prior to the event(s). Register at </span><a href="http://bit.ly/NJ-spring-events" style="color: rgb(17\, 85\, 204)\; font-family: Arial\; font-size: 14.6667px\; white-space: pre-wrap\;" target="_blank">bit.ly/NJ-spring-events</a><span style="color:rgb(0\, 0\, 0)\; font-family:arial\; font-size:14.6667px">. </span></p>\n<span style="color:rgb(0\, 0\, 0)\; font-family:arial\; font-size:14.6667px"> </span>\n\n<div>&nbsp\;</div>\n
LOCATION:Virtual
UID:e.180.14738
SEQUENCE:3
DTSTAMP:20260421T204900Z
URL:https://business.granvilleoh.com/events/details/the-new-storytellers-future-of-local-journalism-14738
END:VEVENT

END:VCALENDAR
