BEGIN:VCALENDAR
VERSION:2.0
PRODID:-//ChamberMaster//Event Calendar 2.0//EN
METHOD:PUBLISH
X-PUBLISHED-TTL:P3D
REFRESH-INTERVAL:P3D
CALSCALE:GREGORIAN
BEGIN:VEVENT
DTSTART:20210218T163000Z
DTEND:20210218T180000Z
X-MICROSOFT-CDO-ALLDAYEVENT:FALSE
SUMMARY:The New Storytellers: 'Journalism in the Age of Covid'
DESCRIPTION:Narrative Journalism at Denison University and Between Coasts welcomes you to join us for The New Storytellers: a series of conversations about narrative journalism today at 11:30 a.m. on Thursdays this spring.\nThe New Storytellers: "Journalism in the Age of Covid"\n\n\n\nInvestigative journalists reflect on the important work of longform narrative reporting during the pandemic.\n\n\n\nPanelist: Ted Genoways\, journalist for New Republic and Pacific Standard\, author of "This Blessed Earth"\n\n\n\nPanelist: Esther Honig\, journalist for NPR\, LatinoUSA\, HuffPost & others\n\n\n\nAbout the conversation: Co-authors of "Mother Jones" feature on Colorado meatpacking workers during Covid\n\n\n\nEvents are funded by the Andrew W. Mellon Foundation and a gift by Sue Douthit O'Donnell '67.\n\n\n\nThe events are free and open to the public and will take place over Zoom. Registrants will receive the event's Zoom log-in information prior to the event(s). Register at bit.ly/NJ-spring-events.
X-ALT-DESC;FMTTYPE=text/html:<span style="color:rgb(0\, 0\, 0)\; font-family:arial\; font-size:14.6667px">Narrative Journalism at Denison University and Between Coasts welcomes you to join us for The New Storytellers: a series of conversations about narrative journalism today at 11:30 a.m. on Thursdays this spring.</span>\n<p><span style="font-size:11pt">The New Storytellers: </span><span style="background-color:transparent\; font-size:11pt">&quot\;Journalism in the Age of Covid&quot\;<br />\n<br />\nI</span><span style="background-color:transparent\; color:rgb(0\, 0\, 0)\; font-family:arial\; font-size:11pt">nvestigative journalists reflect on the important work of longform narrative reporting during the pandemic.</span><br />\n<br />\n<span style="background-color:transparent\; color:rgb(0\, 0\, 0)\; font-family:arial\; font-size:11pt">Panelist: Ted Genoways\, journalist for New Republic and Pacific Standard\, author of &quot\;This Blessed Earth&quot\;<br />\n<br />\nPanelist: Esther Honig\, journalist for NPR\, LatinoUSA\, HuffPost &amp\; others<br />\n<br />\nAbout the conversation: Co-authors of &quot\;Mother Jones&quot\; feature on Colorado meatpacking workers during Covid</span><br />\n<br />\n<span style="color:rgb(0\, 0\, 0)\; font-family:arial\; font-size:14.6667px">Events are funded by the Andrew W. Mellon Foundation and a gift by Sue Douthit O&#39\;Donnell &#39\;67.</span><br />\n<br />\n<span style="color:rgb(0\, 0\, 0)\; font-family:arial\; font-size:14.6667px">The events are free and open to the public and will take place over Zoom. Registrants will receive the event&#39\;s Zoom log-in information prior to the event(s). Register at </span><a href="http://bit.ly/NJ-spring-events" style="color: rgb(17\, 85\, 204)\; font-family: Arial\; font-size: 14.6667px\; white-space: pre-wrap\;" target="_blank">bit.ly/NJ-spring-events</a><span style="color:rgb(0\, 0\, 0)\; font-family:arial\; font-size:14.6667px">. </span></p>\n<span style="color:rgb(0\, 0\, 0)\; font-family:arial\; font-size:14.6667px"> </span>\n\n<div>&nbsp\;</div>\n
LOCATION:Virtual
UID:e.180.14736
SEQUENCE:3
DTSTAMP:20260422T003710Z
URL:https://business.granvilleoh.com/events/details/the-new-storytellers-journalism-in-the-age-of-covid-14736
END:VEVENT

END:VCALENDAR
