BEGIN:VCALENDAR
VERSION:2.0
PRODID:-//ChamberMaster//Event Calendar 2.0//EN
METHOD:PUBLISH
X-PUBLISHED-TTL:P3D
REFRESH-INTERVAL:P3D
CALSCALE:GREGORIAN
BEGIN:VEVENT
DTSTART:20210311T163000Z
DTEND:20210311T180000Z
X-MICROSOFT-CDO-ALLDAYEVENT:FALSE
SUMMARY:The New Storytellers: 'Stories on the Air'
DESCRIPTION:Narrative Journalism at Denison University and Between Coasts welcomes you to join us for The New Storytellers: a series of conversations about narrative journalism today at 11:30 a.m. on Thursdays this spring.\n\n\n\nThe New Storytellers:  "Stories on the Air"\nAudio storytellers discuss the process of getting good tape and capturing stories about place.\n\nPanelist: Jesse Dukes\, producer of "Curious City" podcast\, WBEZ Chicago\n\n\n\nPanelist: Jocelyn Robinson\, producer for the Eichelberger Center for Community Voices\, WYSO\n\nPanelist: Angela Dennis\, co-host of "Black in Appalachia" podcast\n\nEvents are funded by the Andrew W. Mellon Foundation and a gift by Sue Douthit O'Donnell '67.\n\n\n\nThe events are free and open to the public and will take place over Zoom. Registrants will receive the event's Zoom log-in information prior to the event(s). Register at bit.ly/NJ-spring-events.
X-ALT-DESC;FMTTYPE=text/html:<span style="color:rgb(0\, 0\, 0)\; font-family:arial\; font-size:14.6667px">Narrative Journalism at Denison University and Between Coasts welcomes you to join us for The New Storytellers: a series of conversations about narrative journalism today at 11:30 a.m. on Thursdays this spring.</span><br />\n<br />\n<span style="font-size:11pt">The New Storytellers: </span>&nbsp\;&quot\;Stories on the Air&quot\;\n<p><span style="background-color:transparent\; color:rgb(0\, 0\, 0)\; font-family:arial\; font-size:11pt">Audio storytellers discuss the process of getting good tape and capturing stories about place.</span></p>\n\n<p><span style="background-color:transparent\; color:rgb(0\, 0\, 0)\; font-family:arial\; font-size:11pt">Panelist: Jesse Dukes\, producer of &quot\;Curious City&quot\; podcast\, WBEZ Chicago</span><br />\n<br />\n<span style="background-color:transparent\; color:rgb(0\, 0\, 0)\; font-family:arial\; font-size:11pt">Panelist: Jocelyn Robinson\, producer for the Eichelberger Center for Community Voices\, WYSO</span></p>\n\n<p><span style="background-color:transparent\; color:rgb(0\, 0\, 0)\; font-family:arial\; font-size:11pt">Panelist: Angela Dennis\, co-host of &quot\;Black in Appalachia&quot\; podcast</span></p>\n\n<p><span style="color:rgb(0\, 0\, 0)\; font-family:arial\; font-size:14.6667px">Events are funded by the Andrew W. Mellon Foundation and a gift by Sue Douthit O&#39\;Donnell &#39\;67.</span><br />\n<br />\n<span style="color:rgb(0\, 0\, 0)\; font-family:arial\; font-size:14.6667px">The events are free and open to the public and will take place over Zoom. Registrants will receive the event&#39\;s Zoom log-in information prior to the event(s). Register at </span><a href="http://bit.ly/NJ-spring-events" style="color: rgb(17\, 85\, 204)\; font-family: Arial\; font-size: 14.6667px\; white-space: pre-wrap\;" target="_blank">bit.ly/NJ-spring-events</a><span style="color:rgb(0\, 0\, 0)\; font-family:arial\; font-size:14.6667px">. </span></p>\n<span style="color:rgb(0\, 0\, 0)\; font-family:arial\; font-size:14.6667px"> </span>\n\n<div>&nbsp\;</div>\n
LOCATION:Virtual
UID:e.180.14737
SEQUENCE:3
DTSTAMP:20260421T221120Z
URL:https://business.granvilleoh.com/events/details/the-new-storytellers-stories-on-the-air-14737
END:VEVENT

END:VCALENDAR
