BEGIN:VCALENDAR
VERSION:2.0
PRODID:-//ChamberMaster//Event Calendar 2.0//EN
METHOD:PUBLISH
X-PUBLISHED-TTL:P3D
REFRESH-INTERVAL:P3D
CALSCALE:GREGORIAN
BEGIN:VEVENT
DTSTART:20210328T000000Z
DTEND:20210328T020000Z
X-MICROSOFT-CDO-ALLDAYEVENT:FALSE
SUMMARY:'The Revolutionists'
DESCRIPTION:The Denison University Department of Theatre presents a fully-staged virtual production of Lauren Gunderson's "The Revolutionists." \nThis feminist comedy contemplates creativity in a time of great chaos\, offering its audience a rollicking two hour rollercoaster ride. Playwright Olympe de Gouges\, assassin Charlotte Corday\, and deposed queen Marie Antoinette join Haitian rebel Marianne Angelle as they check in\, murder Marat\, lose their heads\, and try to beat back the extremist insanity of Paris in 1793.\n\nWatch Saturday\, March 20 & 27 at 8 p.m.\n\nOr\n\nWatch Sunday\, March 21 & 28 on demand
X-ALT-DESC;FMTTYPE=text/html:<span style="background-color:transparent\; color:rgb(0\, 0\, 0)\; font-family:arial\; font-size:11pt">The Denison University Department of Theatre presents a fully-staged virtual production of Lauren Gunderson&rsquo\;s &ldquo\;The Revolutionists.&rdquo\;&nbsp\;</span>\n<p><span style="background-color:transparent\; color:rgb(0\, 0\, 0)\; font-family:arial\; font-size:11.5pt">This feminist comedy contemplates creativity in a time of great chaos\, offering its audience a rollicking two hour rollercoaster ride. Playwright Olympe de Gouges\, assassin Charlotte Corday\, and deposed queen Marie Antoinette join Haitian rebel Marianne Angelle as they check in\, murder Marat\, lose their heads\, and try to beat back the extremist insanity of Paris in 1793.</span></p>\n\n<p><span style="background-color:transparent\; color:rgb(0\, 0\, 0)\; font-family:arial\; font-size:11.5pt">Watch Saturday\, March 20 &amp\; 27 at 8 p.m.</span></p>\n\n<p><span style="background-color:transparent\; color:rgb(0\, 0\, 0)\; font-family:arial\; font-size:11.5pt">Or</span></p>\n\n<p><span style="background-color:transparent\; color:rgb(0\, 0\, 0)\; font-family:arial\; font-size:11.5pt">Watch Sunday\, March 21 &amp\; 28 on demand</span></p>\n\n<p><span style="background-color:transparent\; color:rgb(0\, 0\, 0)\; font-family:arial\; font-size:11.5pt">&nbsp\;</span></p>\n\n<div>&nbsp\;</div>\n
LOCATION:Virtual
UID:e.180.14770
SEQUENCE:3
DTSTAMP:20260421T220411Z
URL:https://business.granvilleoh.com/events/details/the-revolutionists-03-27-2021-14770
END:VEVENT

END:VCALENDAR
