BEGIN:VCALENDAR
VERSION:2.0
PRODID:-//ChamberMaster//Event Calendar 2.0//EN
METHOD:PUBLISH
X-PUBLISHED-TTL:P3D
REFRESH-INTERVAL:P3D
CALSCALE:GREGORIAN
BEGIN:VEVENT
DTSTART:20211204T180000Z
DTEND:20211205T020000Z
X-MICROSOFT-CDO-ALLDAYEVENT:FALSE
SUMMARY:The Runaway Reindeer Lego Show
DESCRIPTION:Help us solve the mystery of the runaway reindeer by solving puzzles and hunting for clues! Enjoy festive lego displays\, complete a seek and find\, make a craft! Stop in\, warm-up\, and have some fun! The displays will be up Sunday\, Dec. 5th as well but there will be no additional activities. For more information about the Granville-wide event visit http://www.visitgranvilleohio.com/candlelight-walking-tour/
X-ALT-DESC;FMTTYPE=text/html:Help us solve the mystery of the runaway reindeer by solving puzzles and hunting for clues! Enjoy festive lego displays\, complete a seek and find\, make a craft! Stop in\, warm-up\, and have some fun! The displays will be up Sunday\, Dec. 5th as well but there will be no additional activities. For more information about the Granville-wide event visit http://www.visitgranvilleohio.com/candlelight-walking-tour/
LOCATION:Granville Public Library
UID:e.180.16152
SEQUENCE:3
DTSTAMP:20260421T100307Z
URL:https://business.granvilleoh.com/events/details/the-runaway-reindeer-lego-show-16152
END:VEVENT

END:VCALENDAR
