BEGIN:VCALENDAR
VERSION:2.0
PRODID:-//ChamberMaster//Event Calendar 2.0//EN
METHOD:PUBLISH
X-PUBLISHED-TTL:P3D
REFRESH-INTERVAL:P3D
CALSCALE:GREGORIAN
BEGIN:VEVENT
DTSTART:20201113T230000Z
DTEND:20201114T000000Z
X-MICROSOFT-CDO-ALLDAYEVENT:FALSE
SUMMARY:The Tempest: A 3 Hour Tour (A 3 Hour Tour) on Zoom
DESCRIPTION:Join your friendly\, neighbourhood Shakespeare as he takes you on an adventure full of merriment: sword fights\, mistaken identities\, interactive silliness for the little ones\, jokes for the big ones\, and   being pursued by a bear! 2-time winner of the Annual Renaissance Festival Awards Favorite Children-Geared Performer\, Shakespeare Approves! features performances shaped to be fun for everyone! For families with kids of all ages. Register with an email address to receive a Zoom login about an hour before the program. Register at GranvilleLibrary.org/calendar/month
X-ALT-DESC;FMTTYPE=text/html:Join your friendly\, neighbourhood Shakespeare as he takes you on an adventure full of merriment: sword fights\, mistaken identities\, interactive silliness for the little ones\, jokes for the big ones\, and &hellip\; being pursued by a bear! 2-time winner of the Annual Renaissance Festival Awards Favorite Children-Geared Performer\, Shakespeare Approves! features performances shaped to be fun for everyone! For families with kids of all ages. Register with an email address to receive a Zoom login about an hour before the program. Register at GranvilleLibrary.org/calendar/month
LOCATION:Granville Public Library
UID:e.180.14669
SEQUENCE:3
DTSTAMP:20260422T033542Z
URL:https://business.granvilleoh.com/events/details/the-tempest-a-3-hour-tour-a-3-hour-tour-on-zoom-14669
END:VEVENT

END:VCALENDAR
