BEGIN:VCALENDAR
VERSION:2.0
PRODID:-//ChamberMaster//Event Calendar 2.0//EN
METHOD:PUBLISH
X-PUBLISHED-TTL:P3D
REFRESH-INTERVAL:P3D
CALSCALE:GREGORIAN
BEGIN:VEVENT
DTSTART:20200308T000000Z
DTEND:20200308T020000Z
X-MICROSOFT-CDO-ALLDAYEVENT:FALSE
SUMMARY:The Vail Series and TUTTI 2020 present SYBARITE5
DESCRIPTION:Denison University's acclaimed Vail Series presents its 2019-20 season\, celebrating the series' 40th Anniversary.\nThe Vail Series and TUTTI 2020 partner to present SYBARITE5 in a grand finale concert. Comprised of Sami Merdinian and Sarah Whitney\, violins\; Angela Pickett\, viola\; Laura Metcalf\, cello\; and Louis Levitt\, bass\, SYBARITE5 has taken audiences by storm all across the United States\, forever changing the perception of chamber music performance.  From Elgar to Radiohead and Visconti to Akiho\, SYBARITE5's eclectic repertoire and commanding performance style is turning heads throughout the music world: " in a program of serial high points\, there were too many to mention." (The Washington Post). SYBARITE5 served as the resident ensemble for the American Composers Forum National Competition in 2016. With their dynamic view on 21st-century entrepreneurial musicianship\, Denison feels lucky to count itself among the institutions and conservatories such as the Curtis Institute of Music and New England Conservatory among others where the group will conduct residencies and workshops.
X-ALT-DESC;FMTTYPE=text/html:<span style="background-color:transparent\; color:rgb(0\, 0\, 0)\; font-family:arial\; font-size:11pt">Denison University&rsquo\;s acclaimed Vail Series presents its 2019-20 season\, </span><span style="color:rgb(0\, 0\, 0)\; font-family:arial\; font-size:11pt">celebrating the series&#39\; 40</span><span style="color:rgb(0\, 0\, 0)\; font-family:arial\; font-size:11pt"><span style="font-size:0.6em">th</span></span><span style="color:rgb(0\, 0\, 0)\; font-family:arial\; font-size:11pt"> Anniversary</span><span style="background-color:transparent\; color:rgb(0\, 0\, 0)\; font-family:arial\; font-size:11pt">.</span>\n<p><span style="color:rgb(38\, 38\, 38)\; font-family:arial\; font-size:11pt">The Vail Series and TUTTI 2020 partner to present </span><span style="color:rgb(0\, 0\, 0)\; font-family:arial\; font-size:11pt">SYBARITE5 in a grand finale concert.&nbsp\;Comprised of Sami Merdinian and Sarah Whitney\, violins\; Angela Pickett\, viola\; Laura Metcalf\, cello\; and Louis Levitt\, bass\, SYBARITE5 has taken audiences by storm all across the United States\, forever changing the perception of chamber music performance.&nbsp\; From Elgar to Radiohead and Visconti to Akiho\, SYBARITE5&rsquo\;s eclectic repertoire and commanding performance style is turning heads throughout the music world: &ldquo\;&hellip\;in a program of serial high points\, there were too many to mention.&rdquo\; (The Washington Post). SYBARITE5 served as the resident ensemble for the American Composers Forum National Competition in 2016. With their dynamic view on 21st-century entrepreneurial musicianship\, Denison feels lucky to count itself among the institutions and conservatories such as the Curtis Institute of Music and New England Conservatory among others where the group will conduct residencies and workshops.</span></p>\n
LOCATION:Denison University Swasey Chapel 200 Chapel Drive
UID:e.180.12838
SEQUENCE:3
DTSTAMP:20260422T142851Z
URL:https://business.granvilleoh.com/events/details/the-vail-series-and-tutti-2020-present-sybarite5-12838
END:VEVENT

END:VCALENDAR
