BEGIN:VCALENDAR
VERSION:2.0
PRODID:-//ChamberMaster//Event Calendar 2.0//EN
METHOD:PUBLISH
X-PUBLISHED-TTL:P3D
REFRESH-INTERVAL:P3D
CALSCALE:GREGORIAN
BEGIN:VEVENT
DTSTART:20210425T200000Z
DTEND:20210425T210000Z
X-MICROSOFT-CDO-ALLDAYEVENT:FALSE
SUMMARY:The Vail Series\, in partnership with Music Institute of Chicago\, present a Livestream Third Coast Percussion Concert
DESCRIPTION:The Vail Series is partnering with Music Institute of Chicago to bring you a Livestream performance with one of Denison's Ensembles-in-Residence\, Grammy  award winning Third Coast Percussion.\n\nFor 15 years this Chicago-based percussion quartet has created exciting andunexpected performances that constantly redefine the classical music experience. Third CoastPercussion maintains a busy tour schedule\, with past performances in 35 ofthe 50 states and Washington\, D.C.\, plus international tour dates in Canada\,Colombia\, Hong Kong\, Germany\, Italy\, Lithuania\, the Netherlands\, Poland\,Taiwan\, and the United Kingdom.\n\nThis partnership with The Music Institute of Chicago is part of their "Live from Nichols Concert Hall" Series\, presenting free chamber music livestreamed events from their historic Nichols Concert Hall.\n\nThis performance features composers Clarice Assad\, Devont  Hynes\, Gemma Peacocke\, and Jlin.\n\nFree and open to the public\, just click in and watch at https://www.musicinst.org/nch-live.
X-ALT-DESC;FMTTYPE=text/html:<p>The Vail Series is partnering with Music Institute of Chicago to bring you a Livestream performance with one of Denison&rsquo\;s Ensembles-in-Residence\, Grammy&reg\; award winning Third Coast Percussion.</p>\n\n<p>For 15 years this Chicago-based percussion quartet has created exciting andunexpected performances that constantly redefine the classical music experience. Third CoastPercussion maintains a busy tour schedule\, with past performances in 35 ofthe 50 states and Washington\, D.C.\, plus international tour dates in Canada\,Colombia\, Hong Kong\, Germany\, Italy\, Lithuania\, the Netherlands\, Poland\,Taiwan\, and the United Kingdom.</p>\n\n<p>This partnership with The Music Institute of Chicago is part of their &ldquo\;Live from Nichols Concert Hall&rdquo\; Series\, presenting free chamber music livestreamed events from their historic Nichols Concert Hall.</p>\n\n<p>This performance features composers Clarice Assad\, Devont&eacute\; Hynes\, Gemma Peacocke\, and Jlin.</p>\n\n<p>Free and open to the public\, just click in and watch at https://www.musicinst.org/nch-live.</p>\n\n<p>&nbsp\;</p>\n
LOCATION:Virtual
UID:e.180.14775
SEQUENCE:3
DTSTAMP:20260421T215746Z
URL:https://business.granvilleoh.com/events/details/the-vail-series-in-partnership-with-music-institute-of-chicago-present-a-livestream-third-coast-percussion-concert-14775
END:VEVENT

END:VCALENDAR
