BEGIN:VCALENDAR
VERSION:2.0
PRODID:-//ChamberMaster//Event Calendar 2.0//EN
METHOD:PUBLISH
X-PUBLISHED-TTL:P3D
REFRESH-INTERVAL:P3D
CALSCALE:GREGORIAN
BEGIN:VEVENT
DTSTART:20200208T000000Z
DTEND:20200208T020000Z
X-MICROSOFT-CDO-ALLDAYEVENT:FALSE
SUMMARY:The Vail Series presents Brasil Guitar Duo with JIJI
DESCRIPTION:Denison University's acclaimed Vail Series presents its 2019-20 season\, celebrating the series' 40th Anniversary. \n\nThe Vail Series presents Brasil Guitar Duo with JIJI presenting an evening of classical guitar music. Brasil Guitar Duo\, a 2006 winner of the Concert Artists Guild International Competition\, and hailed by Classical Guitar magazine for its "maturity of musicianship and technical virtuosity\," is equally at home on a classical or a world-music series or performing a concerto with orchestra. The Duo combines a broad repertoire of classical guitar duos (Bach\, Sor\, Scarlatti\, Rameau\, Debussy\, etc.) with such traditional Brazilian dance forms as choro\, samba\, maxixe\, and bai o. JIJI made her Carnegie Hall/Stern Auditorium debut as soloist with the award-winning New York Youth Symphony\, performing the world premiere of a new concerto written for JIJI by American composer Natalie Dietterich in the 2018/2019 season. Born in Seoul\, South Korea\, JIJI (Jiyeon Kim) began playing classical guitar at the age of nine\, and was accepted to the Korea National University of Arts at age fourteen.  She attended the Cleveland Institute of Music\, was one of the first two guitarists in Curtis' distinguished history\, and earned her Master of Music degree from the Yale School of Music.
X-ALT-DESC;FMTTYPE=text/html:<p><span style="font-size:14px">Denison University&rsquo\;s acclaimed Vail Series presents its 2019-20 season\, celebrating the series&#39\; 40th Anniversary.&nbsp\;</span></p>\n\n<p><span style="font-size:14px">The Vail Series presents </span><span style="background-color:transparent\; color:rgb(0\, 0\, 0)\; font-family:arial\; font-size:11pt">Brasil Guitar Duo with JIJI presenting an evening of classical guitar music.&nbsp\;</span><span style="background-color:transparent\; font-size:11pt">Brasil Guitar Duo\, a 2006 winner of the Concert Artists Guild International Competition\, and hailed by Classical Guitar magazine for its &ldquo\;maturity of musicianship and technical virtuosity\,&rdquo\; is equally at home on a classical or a world-music series or performing a concerto with orchestra. The Duo combines a broad repertoire of classical guitar duos (Bach\, Sor\, Scarlatti\, Rameau\, Debussy\, etc.) with such traditional Brazilian dance forms as choro\, samba\, maxixe\, and bai&atilde\;o</span><strong>. </strong><span style="background-color:transparent\; font-size:11pt">JIJI made her Carnegie Hall/Stern Auditorium debut as soloist with the award-winning New York Youth Symphony\, performing the world premiere of a new concerto written for JIJI by American composer Natalie Dietterich in the 2018/2019 season. Born in Seoul\, South Korea\, JIJI (Jiyeon Kim) began playing classical guitar at the age of nine\, and was accepted to the Korea National University of Arts at age fourteen.&nbsp\; She attended the Cleveland Institute of Music\, was one of the first two guitarists in Curtis&rsquo\; distinguished history\, and earned her Master of Music degree from the Yale School of Music.</span></p>\n
LOCATION:Denison University Burke Recital Hall of the Michael D. Eisner Center for the Performing Arts 240 West Broadway
UID:e.180.12836
SEQUENCE:3
DTSTAMP:20260422T154530Z
URL:https://business.granvilleoh.com/events/details/the-vail-series-presents-brasil-guitar-duo-with-jiji-12836
END:VEVENT

END:VCALENDAR
