BEGIN:VCALENDAR
VERSION:2.0
PRODID:-//ChamberMaster//Event Calendar 2.0//EN
METHOD:PUBLISH
X-PUBLISHED-TTL:P3D
REFRESH-INTERVAL:P3D
CALSCALE:GREGORIAN
BEGIN:VEVENT
DTSTART:20200415T230000Z
DTEND:20200416T010000Z
X-MICROSOFT-CDO-ALLDAYEVENT:FALSE
SUMMARY:The Vail Series presents Roomful of Teeth
DESCRIPTION:Denison University's acclaimed Vail Series presents its 2019-20 season\, celebrating the series' 40th Anniversary.\nThe Vail Series presents Grammy award-winning vocal project Roomful of Teeth\, dedicated to reimagining the expressive potential of the human voice. Through study with masters from vocal traditions the world over\, the eight-voice ensemble continually expands its vocabulary of singing techniques and\, through an ongoing commissioning process\, forges a new repertoire without borders. Recent projects include "The Colorado\," a music-driven documentary film that explores water\, land and survival in the Colorado River Basin (featuring former Kronos Quartet cellist Jeffrey Zeigler and Wilco's Glenn Kotche)\; collaborations with A Far Cry and Nick Zammuto of The Books\; appearances at new music festivals in the United States\, Canada and Sweden\; and partnerships with nearly two dozen higher education institutions across the country.
X-ALT-DESC;FMTTYPE=text/html:<span style="background-color:transparent\; color:rgb(0\, 0\, 0)\; font-family:arial\; font-size:11pt">Denison University&rsquo\;s acclaimed Vail Series presents its 2019-20 season\, </span><span style="color:rgb(0\, 0\, 0)\; font-family:arial\; font-size:11pt">celebrating the series&#39\; 40</span><span style="color:rgb(0\, 0\, 0)\; font-family:arial\; font-size:11pt"><span style="font-size:0.6em">th</span></span><span style="color:rgb(0\, 0\, 0)\; font-family:arial\; font-size:11pt"> Anniversary</span><span style="background-color:transparent\; color:rgb(0\, 0\, 0)\; font-family:arial\; font-size:11pt">.</span>\n<p><span style="color:rgb(38\, 38\, 38)\; font-family:arial\; font-size:11pt">The Vail Series presents&nbsp\;</span><span style="color:rgb(0\, 0\, 0)\; font-family:arial\; font-size:11pt">Grammy award-winning vocal project Roomful of Teeth\, dedicated to reimagining the expressive potential of the human voice.&nbsp\;</span><span style="font-size:11pt">Through study with masters from vocal traditions the world over\, the eight-voice ensemble continually expands its vocabulary of singing techniques and\, through an ongoing commissioning process\, forges a new repertoire without borders. Recent projects include &ldquo\;The Colorado\,&rdquo\; a music-driven documentary film that explores water\, land and survival in the Colorado River Basin (featuring former Kronos Quartet cellist Jeffrey Zeigler and Wilco&rsquo\;s Glenn Kotche)\; collaborations with A Far Cry and Nick Zammuto of The Books\; appearances at new music festivals in the United States\, Canada and Sweden\; and partnerships with nearly two dozen higher education institutions across the country.&nbsp\;</span></p>\n
LOCATION:Denison University Swasey Chapel 200 Chapel Drive
UID:e.180.12839
SEQUENCE:3
DTSTAMP:20260422T131221Z
URL:https://business.granvilleoh.com/events/details/the-vail-series-presents-roomful-of-teeth-12839
END:VEVENT

END:VCALENDAR
