BEGIN:VCALENDAR
VERSION:2.0
PRODID:-//ChamberMaster//Event Calendar 2.0//EN
METHOD:PUBLISH
X-PUBLISHED-TTL:P3D
REFRESH-INTERVAL:P3D
CALSCALE:GREGORIAN
BEGIN:VEVENT
DTSTART:20200924T233000Z
DTEND:20200925T003000Z
X-MICROSOFT-CDO-ALLDAYEVENT:FALSE
SUMMARY:‘Welcome Beck’ Thursdays presents Garnette Cadogan
DESCRIPTION:Denison University's Beck Series presents ?Welcome Beck? Thursdays with essayist Garnette Cadogan. Register to receive the Zoom link for our ?Welcome Beck? Thursdays events\, the virtual reading series of Denison University\, highlighting the best in fiction\, poetry\, journalism\, and scholarship at bit.ly/beck-events. \n\nCadogan (best-known for ?Walking while Black?) explores the promise and perils of urban life\, the vitality and inequality of cities\, and the challenges of pluralism. Formerly the Martin Luther King Jr. Visiting Scholar at the Department of Urban Studies and Planning at MIT\, he is currently a Visiting Fellow at the Institute for Advanced Studies in Culture at the University of Virginia and a Visiting Scholar at the Institute for Public Knowledge at New York University. He is the editor-at-large of Nonstop Metropolis: A New York City Atlas (co-edited by Rebecca Solnit and IPK Fellow Joshua Jelly-Schapiro) and is at work on a book on walking.
X-ALT-DESC;FMTTYPE=text/html:<p><span style="color:rgb(0\, 0\, 0)\; font-family:arial\; font-size:11pt">Denison University&#39\;s Beck Series presents ?Welcome Beck? Thursdays with essayist Garnette Cadogan. Register to receive the Zoom link for our ?Welcome Beck? Thursdays events\, the virtual reading series of Denison University\, highlighting the best in fiction\, poetry\, journalism\, and scholarship at </span><a href="http://bit.ly/beck-events" style="text-decoration-line: none\;"><span style="color:rgb(17\, 85\, 204)\; font-family:arial\; font-size:11pt">bit.ly/beck-events</span></a><span style="color:rgb(34\, 34\, 34)\; font-family:arial\; font-size:11pt">.&nbsp\;</span></p>\n\n<p><span style="color:rgb(0\, 0\, 0)\; font-family:arial\; font-size:11pt">Cadogan (best-known for ?Walking while Black?) explores the promise and perils of urban life\, the vitality and inequality of cities\, and the challenges of pluralism. Formerly the Martin Luther King Jr. Visiting Scholar at the Department of Urban Studies and Planning at MIT\, he is currently a Visiting Fellow at the Institute for Advanced Studies in Culture at the University of Virginia and a Visiting Scholar at the Institute for Public Knowledge at New York University. He is the editor-at-large of Nonstop Metropolis: A New York City Atlas (co-edited by Rebecca Solnit and IPK Fellow Joshua Jelly-Schapiro) and is at work on a book on walking.</span></p>\n\n<div>&nbsp\;</div>\n
LOCATION:Virtual
UID:e.180.14605
SEQUENCE:3
DTSTAMP:20260422T060316Z
URL:https://business.granvilleoh.com/events/details/the-welcome-beck-thursdays-presents-garnette-cadogan-14605
END:VEVENT

END:VCALENDAR
