BEGIN:VCALENDAR
VERSION:2.0
PRODID:-//ChamberMaster//Event Calendar 2.0//EN
METHOD:PUBLISH
X-PUBLISHED-TTL:P3D
REFRESH-INTERVAL:P3D
CALSCALE:GREGORIAN
BEGIN:VEVENT
DTSTART:20200917T233000Z
DTEND:20200918T003000Z
X-MICROSOFT-CDO-ALLDAYEVENT:FALSE
SUMMARY:‘Welcome Beck’ Thursdays presents Philip Metres
DESCRIPTION:Denison University's Beck Series presents "Welcome Beck" Thursdays with poet Philip Metres. Register to receive the Zoom link for our "Welcome Beck" Thursdays events\, the virtual reading series of Denison University\, highlighting the best in fiction\, poetry\, journalism\, and scholarship at bit.ly/beck-events. \n\nMetres has written ten books\, including "Shrapnel Maps" (Copper Canyon 2020)\, "Sand Opera\," and "The Sound of Listening." Awarded the Guggenheim Fellowship\, the Lannan Fellowship\, three Arab American Book Awards\, and two NEAs\, he is professor of English and director of the Peace\, Justice\, and Human Rights program at John Carroll University. Books will be for sale through Granville's independent bookstore\, Reader's Garden. Orders can be placed via Instagram (readersgardenohio) or by contacting readersgardenohio@gmail.com\, for delivery to campus or store pickup in Granville.
X-ALT-DESC;FMTTYPE=text/html:<p><span style="color:rgb(0\, 0\, 0)\; font-family:arial\; font-size:11pt">Denison University&#39\;s Beck Series presents &ldquo\;Welcome Beck&rdquo\; Thursdays with poet Philip Metres. Register to receive the Zoom link for our &ldquo\;Welcome Beck&rdquo\; Thursdays events\, the virtual reading series of Denison University\, highlighting the best in fiction\, poetry\, journalism\, and scholarship at </span><a href="http://bit.ly/beck-events" style="text-decoration-line: none\;"><span style="color:rgb(17\, 85\, 204)\; font-family:arial\; font-size:11pt">bit.ly/beck-events</span></a><span style="color:rgb(34\, 34\, 34)\; font-family:arial\; font-size:11pt">.&nbsp\;</span></p>\n\n<div><span style="color:rgb(0\, 0\, 0)\; font-family:arial\; font-size:11pt">Metres has written ten books\, including &ldquo\;Shrapnel Maps&rdquo\; (Copper Canyon 2020)\, &ldquo\;Sand Opera\,&rdquo\; and &ldquo\;The Sound of Listening.&rdquo\; Awarded the Guggenheim Fellowship\, the Lannan Fellowship\, three Arab American Book Awards\, and two NEAs\, he is professor of English and director of the Peace\, Justice\, and Human Rights program at John Carroll University. Books will be for sale through Granville&rsquo\;s independent bookstore\, Reader&rsquo\;s Garden. Orders can be placed via Instagram (readersgardenohio) or by contacting readersgardenohio@gmail.com\, for delivery to campus or store pickup in Granville.</span></div>\n
LOCATION:Virtual
UID:e.180.14604
SEQUENCE:3
DTSTAMP:20260422T073918Z
URL:https://business.granvilleoh.com/events/details/the-welcome-beck-thursdays-presents-philip-metres-14604
END:VEVENT

END:VCALENDAR
