BEGIN:VCALENDAR
VERSION:2.0
PRODID:-//ChamberMaster//Event Calendar 2.0//EN
METHOD:PUBLISH
X-PUBLISHED-TTL:P3D
REFRESH-INTERVAL:P3D
CALSCALE:GREGORIAN
BEGIN:VEVENT
DTSTART:20201118T210000Z
DTEND:20201118T230000Z
X-MICROSOFT-CDO-ALLDAYEVENT:FALSE
SUMMARY:The Works: Mini Kits at Granville Library
DESCRIPTION:The Works: Ohio Center for History\, Art & Technology is providing Works@Home Mini-Kits at no cost to families with exciting activities focused on STEM and Art exploration. Works@Home Mini-Kits can be picked up in front of Granville Public Library for FREE. There will be 200 Mini-Kits available and will be given on a first-come\, first-serve basis. 1 Mini-Kit/child. Ages 3+ Thank you to the Board of Licking County Commissioners for their generous support and encouragement of STEM learning at home across our community.
X-ALT-DESC;FMTTYPE=text/html:The Works: Ohio Center for History\, Art &amp\; Technology is providing Works@Home Mini-Kits at no cost to families with exciting activities focused on STEM and Art exploration. Works@Home Mini-Kits can be picked up in front of Granville Public Library for FREE. There will be 200 Mini-Kits available and will be given on a first-come\, first-serve basis. 1 Mini-Kit/child. Ages 3+ Thank you to the Board of Licking County Commissioners for their generous support and encouragement of STEM learning at home across our community.
LOCATION:Granville Public Library
UID:e.180.14673
SEQUENCE:3
DTSTAMP:20260422T033258Z
URL:https://business.granvilleoh.com/events/details/the-works-mini-kits-at-granville-library-14673
END:VEVENT

END:VCALENDAR
