BEGIN:VCALENDAR
VERSION:2.0
PRODID:-//ChamberMaster//Event Calendar 2.0//EN
METHOD:PUBLISH
X-PUBLISHED-TTL:P3D
REFRESH-INTERVAL:P3D
CALSCALE:GREGORIAN
BEGIN:VEVENT
DTSTART:20210925T150000Z
DTEND:20210925T154500Z
X-MICROSOFT-CDO-ALLDAYEVENT:FALSE
SUMMARY:The Works on Wheels: Colors & Seasons
DESCRIPTION:Celebrate Fall with The Works! Learn the secrets behind the changing colors of the season with exciting hands-on activities and experiments. This opportunity to support STEM learning in our community is provided by Battelle. Sinnett House Patio Grades K to 6
X-ALT-DESC;FMTTYPE=text/html:Celebrate Fall with The Works! Learn the secrets behind the changing colors of the season with exciting hands-on activities and experiments. This opportunity to support STEM learning in our community is provided by Battelle. Sinnett House Patio Grades K to 6
LOCATION:Granville Public Library
UID:e.180.16062
SEQUENCE:3
DTSTAMP:20260421T140316Z
URL:https://business.granvilleoh.com/events/details/the-works-on-wheels-colors-seasons-16062
END:VEVENT

END:VCALENDAR
