BEGIN:VCALENDAR
VERSION:2.0
PRODID:-//ChamberMaster//Event Calendar 2.0//EN
METHOD:PUBLISH
X-PUBLISHED-TTL:P3D
REFRESH-INTERVAL:P3D
CALSCALE:GREGORIAN
BEGIN:VEVENT
DTSTART:20211123T213000Z
DTEND:20211123T233000Z
X-MICROSOFT-CDO-ALLDAYEVENT:FALSE
SUMMARY:The Works STEM Kit Giveaway
DESCRIPTION:The Works will give out free STEM kits. This opportunity to support STEM learning in our community is provided by Battelle. Children's Department Grades K to 6 While supplies last.
X-ALT-DESC;FMTTYPE=text/html:The Works will give out free STEM kits. This opportunity to support STEM learning in our community is provided by Battelle. Children&#39\;s Department Grades K to 6 While supplies last.
LOCATION:Granville Public Library
UID:e.180.16148
SEQUENCE:3
DTSTAMP:20260421T111733Z
URL:https://business.granvilleoh.com/events/details/the-works-stem-kit-giveaway-16148
END:VEVENT

END:VCALENDAR
