BEGIN:VCALENDAR
VERSION:2.0
PRODID:-//ChamberMaster//Event Calendar 2.0//EN
METHOD:PUBLISH
X-PUBLISHED-TTL:P3D
REFRESH-INTERVAL:P3D
CALSCALE:GREGORIAN
BEGIN:VEVENT
DTSTART:20200331T230000Z
DTEND:20200401T000000Z
X-MICROSOFT-CDO-ALLDAYEVENT:FALSE
SUMMARY:'Theorizing from the South: Gender and Agency in the Middle East'
DESCRIPTION:Denison University welcomes Professor of English and Comparative Literature at Cairo University Shereen Abouelnaga\, presenting "Theorizing from the South: Gender and Agency in the Middle East."\nAbouelnaga will explore the multiple ways women from the global south have reconfigured and complicated the implications of feminism and women's agency.\n\nAbouelnaga is a feminist literary critic who focuses on gender using the lens of socialist feminism. Her books include\, "Nation in the Narration of Arab Women Writers\," "Intellectuals in the Transitional Phase of Egypt\," and "Women in Revolutionary Egypt: Gender and the New Geographics of Identity."
X-ALT-DESC;FMTTYPE=text/html:<span style="background-color:transparent\; color:rgb(0\, 0\, 0)\; font-family:arial\; font-size:11pt">Denison University welcomes Professor of English and Comparative Literature at Cairo University Shereen Abouelnaga\, presenting &quot\;Theorizing from the South: Gender and Agency in the Middle East.&quot\;</span>\n<p><span style="background-color:transparent\; color:rgb(0\, 0\, 0)\; font-family:arial\; font-size:11pt">Abouelnaga will explore the multiple ways women from the global south have reconfigured and complicated the implications of feminism and women&#39\;s agency.</span></p>\n\n<p><span style="background-color:transparent\; color:rgb(0\, 0\, 0)\; font-family:arial\; font-size:11pt">Abouelnaga is a feminist literary critic who focuses on gender using the lens of socialist feminism. Her books include\, &quot\;Nation in the Narration of Arab Women Writers\,&quot\; &quot\;Intellectuals in the Transitional Phase of Egypt\,&quot\; and &quot\;Women in Revolutionary Egypt: Gender and the New Geographics of Identity.&quot\;&nbsp\;</span></p>\n\n<div>&nbsp\;</div>\n<br />\n&nbsp\;
LOCATION:Denison University Room 115 of the Burton D. Morgan Center 150 Ridge Road
UID:e.180.13979
SEQUENCE:3
DTSTAMP:20260422T143712Z
URL:https://business.granvilleoh.com/events/details/theorizing-from-the-south-gender-and-agency-in-the-middle-east-13979
END:VEVENT

END:VCALENDAR
