BEGIN:VCALENDAR
VERSION:2.0
PRODID:-//ChamberMaster//Event Calendar 2.0//EN
METHOD:PUBLISH
X-PUBLISHED-TTL:P3D
REFRESH-INTERVAL:P3D
CALSCALE:GREGORIAN
BEGIN:VEVENT
DTSTART:20210312T233000Z
DTEND:20210313T003000Z
X-MICROSOFT-CDO-ALLDAYEVENT:FALSE
SUMMARY:Third Annual Podcast-athon: Pod-a-palooza
DESCRIPTION:Narrative Journalism at Denison hosts the third annual Podcast-athon throughout the semester with it's final virtual event Pod-a-palooza -- the best listening party of the year.\n\n\n\nThe Pod-a-palooza will include the following:\n-Listen to the top audio stories from 9 classes across disciplines.\n\n-WBEZ Chicago's Jesse Dukes emcees from the original "This American Life" podcast studio!\n\n-Guest Judges are Narrative Journalism's Storytellers-in-Residence Neil Shea & Taylor Hom!\n\n-Which department will win the coveted Buzzy GRAND CHAMPION trophy?  Tune in to listen with us!\n\nPlease note: prizes and raffles are reserved for the students participating in audio story creation for the Podcast-a-thon competition and must be virtually present to win.\n\nEvents are funded by the Andrew W. Mellon Foundation and a gift by Sue Douthit O'Donnell '67.
X-ALT-DESC;FMTTYPE=text/html:<span style="background-color:transparent\; color:rgb(0\, 0\, 0)\; font-family:arial\; font-size:11pt">Narrative Journalism at Denison hosts the third annual Podcast-athon throughout the semester with it&rsquo\;s final virtual event P</span><span style="color:rgb(0\, 0\, 0)\; font-family:arial\; font-size:11pt">od-a-palooza -- the best listening party of the year.</span><br />\n<br />\n<span style="background-color:transparent\; color:rgb(0\, 0\, 0)\; font-family:arial\; font-size:11pt">The P</span><span style="color:rgb(0\, 0\, 0)\; font-family:arial\; font-size:11pt">od-a-palooza will include the following:</span>\n<p><span style="color:rgb(32\, 33\, 36)\; font-family:arial\; font-size:11pt">-Listen to the top audio stories from 9 classes across disciplines.</span></p>\n\n<p><span style="color:rgb(32\, 33\, 36)\; font-family:arial\; font-size:11pt">-WBEZ Chicago&#39\;s Jesse Dukes emcees from the original &quot\;This American Life&quot\; podcast studio!</span></p>\n\n<p><span style="color:rgb(32\, 33\, 36)\; font-family:arial\; font-size:11pt">-Guest Judges are Narrative Journalism&#39\;s Storytellers-in-Residence Neil Shea &amp\; Taylor Hom!</span></p>\n\n<p><span style="color:rgb(32\, 33\, 36)\; font-family:arial\; font-size:11pt">-Which department will win the coveted Buzzy GRAND CHAMPION trophy?&nbsp\; Tune in to listen with us!</span></p>\n\n<p><span style="color:rgb(32\, 33\, 36)\; font-family:arial\; font-size:11pt">Please note: prizes and raffles are reserved for the students participating in audio story creation for the Podcast-a-thon competition and must be virtually present to win.</span></p>\n\n<p><span style="background-color:transparent\; color:rgb(0\, 0\, 0)\; font-family:arial\; font-size:11pt">Events are funded by the Andrew W. Mellon Foundation and a gift by Sue Douthit O&#39\;Donnell &#39\;67.</span></p>\n<br />\n&nbsp\;
LOCATION:Virtual
UID:e.180.14759
SEQUENCE:3
DTSTAMP:20260421T220352Z
URL:https://business.granvilleoh.com/events/details/third-annual-podcast-athon-pod-a-palooza-14759
END:VEVENT

END:VCALENDAR
