BEGIN:VCALENDAR
VERSION:2.0
PRODID:-//ChamberMaster//Event Calendar 2.0//EN
METHOD:PUBLISH
X-PUBLISHED-TTL:P3D
REFRESH-INTERVAL:P3D
CALSCALE:GREGORIAN
BEGIN:VEVENT
DTSTART:20201001T230000Z
DTEND:20201002T000000Z
X-MICROSOFT-CDO-ALLDAYEVENT:FALSE
SUMMARY:"This is Ohio" with author Jack Shuler
DESCRIPTION:Join author and Denison professor\, Jack Shuler\, for discussion regarding his new book\, This is Ohio: The Overdose Crisis and the Front Lines of a New America. Through profiles of brave men and women close to the opioid epidemic\, Dr. Shuler sheds light on failed policies that helped create the crisis\, as well as the grassroots efforts to change societal views on addiction and alternative potentially life-saving solutions. JACK SHULER is the author of three books\, including The Thirteenth Turn: A History of the Noose. His writing has appeared in The New Republic\, Pacific Standard\, Christian Science Monitor\, 100 Days in Appalachia\, and Los Angeles Times\, among other publications. He is chair of the narrative journalism program at Denison University. He lives in Ohio. Find out more at jackshulerauthor.com. We'll be giving away two copies of "This is Ohio" to two randomly selected attendees of the event.
X-ALT-DESC;FMTTYPE=text/html:Join author and Denison professor\, Jack Shuler\, for discussion regarding his new book\, This is Ohio: The Overdose Crisis and the Front Lines of a New America. Through profiles of brave men and women close to the opioid epidemic\, Dr. Shuler sheds light on failed policies that helped create the crisis\, as well as the grassroots efforts to change societal views on addiction and alternative potentially life-saving solutions. JACK SHULER is the author of three books\, including The Thirteenth Turn: A History of the Noose. His writing has appeared in The New Republic\, Pacific Standard\, Christian Science Monitor\, 100 Days in Appalachia\, and Los Angeles Times\, among other publications. He is chair of the narrative journalism program at Denison University. He lives in Ohio. Find out more at jackshulerauthor.com. We&#39\;ll be giving away two copies of &quot\;This is Ohio&quot\; to two randomly selected attendees of the event.
LOCATION:Granville Public Library at Zoom
UID:e.180.14597
SEQUENCE:3
DTSTAMP:20260422T060707Z
URL:https://business.granvilleoh.com/events/details/this-is-ohio-with-author-jack-shuler-14597
END:VEVENT

END:VCALENDAR
