BEGIN:VCALENDAR
VERSION:2.0
PRODID:-//ChamberMaster//Event Calendar 2.0//EN
METHOD:PUBLISH
X-PUBLISHED-TTL:P3D
REFRESH-INTERVAL:P3D
CALSCALE:GREGORIAN
BEGIN:VEVENT
DTSTART:20200306T233000Z
DTEND:20200307T003000Z
X-MICROSOFT-CDO-ALLDAYEVENT:FALSE
SUMMARY:Three days of story through Podcast-a-thon Workshop
DESCRIPTION:Celebrate stories with "Three Days of Story: Podcast-a-thon." Narrative Journalism at Denison presents the three-day workshop\, an intensive audio story training opportunity for Denison students\, from Wednesday\, March 4\, through Friday\, March 6. The 3-day event culminates in a competition of the top entries at Pod-a-palooza with music\, food\, and awards on Friday\, March 6\, at 6:30 p.m.\nEvents funded in part by the Andrew W. Mellon Foundation and a gift by alumna Sue O'Donnell.
X-ALT-DESC;FMTTYPE=text/html:<span style="background-color:transparent\; color:rgb(0\, 0\, 0)\; font-family:arial\; font-size:11pt">Celebrate stories with &quot\;Three Days of Story: Podcast-a-thon.&quot\; Narrative Journalism at Denison presents the three-day workshop\, an intensive audio story training opportunity for Denison students\, from Wednesday\, March 4\, through Friday\, March 6. </span><span style="color:rgb(0\, 0\, 0)\; font-family:arial\; font-size:11pt">The 3-day event culminates in a competition of the top entries at Pod-a-palooza with music\, food\, and awards on Friday\, March 6\, at 6:30 p.m.</span>\n<p><span style="background-color:transparent\; color:rgb(0\, 0\, 0)\; font-family:arial\; font-size:11pt">Events funded in part by the Andrew W. Mellon Foundation and a gift by alumna Sue O&rsquo\;Donnell.</span></p>\n\n<div>&nbsp\;</div>\n<br />\n&nbsp\;
LOCATION:Denison University Lecture Hall of the Burton D. Morgan Center 150 Ridge Road
UID:e.180.14338
SEQUENCE:3
DTSTAMP:20260422T142515Z
URL:https://business.granvilleoh.com/events/details/three-days-of-story-through-podcast-a-thon-workshop-14338
END:VEVENT

END:VCALENDAR
