BEGIN:VCALENDAR
VERSION:2.0
PRODID:-//ChamberMaster//Event Calendar 2.0//EN
METHOD:PUBLISH
X-PUBLISHED-TTL:P3D
REFRESH-INTERVAL:P3D
CALSCALE:GREGORIAN
BEGIN:VEVENT
DTSTART:20201016T230000Z
DTEND:20201017T000000Z
X-MICROSOFT-CDO-ALLDAYEVENT:FALSE
SUMMARY:Thrills & Chills Bingo for Adults via Zoom
DESCRIPTION:Adults - register to join us for BINGO via Zoom! Play for a chance to win thrilling page-turners. Register at www.GranvilleLibrary.org/calendar/month.
X-ALT-DESC;FMTTYPE=text/html:Adults - register to join us for BINGO via Zoom! Play for a chance to win thrilling page-turners. Register at www.GranvilleLibrary.org/calendar/month.
LOCATION:Granville Public Library via Zoom
UID:e.180.14617
SEQUENCE:3
DTSTAMP:20260422T055837Z
URL:https://business.granvilleoh.com/events/details/thrills-chills-bingo-for-adults-via-zoom-14617
END:VEVENT

END:VCALENDAR
