BEGIN:VCALENDAR
VERSION:2.0
PRODID:-//ChamberMaster//Event Calendar 2.0//EN
METHOD:PUBLISH
X-PUBLISHED-TTL:P3D
REFRESH-INTERVAL:P3D
CALSCALE:GREGORIAN
BEGIN:VEVENT
DTSTART:20200218T220000Z
DTEND:20200219T000000Z
X-MICROSOFT-CDO-ALLDAYEVENT:FALSE
SUMMARY:Tinkercad for Adults and Teens
DESCRIPTION:Learn to use Tinkercad to create a customized one-of-a-kind pen. Register at Granvillelibrary.org/calendar.
X-ALT-DESC;FMTTYPE=text/html:Learn to use Tinkercad to create a customized one-of-a-kind pen. Register at Granvillelibrary.org/calendar.
LOCATION:Granville Public Library
UID:e.180.14075
SEQUENCE:3
DTSTAMP:20260422T160608Z
URL:https://business.granvilleoh.com/events/details/tinkercad-for-adults-and-teens-14075
END:VEVENT

END:VCALENDAR
