BEGIN:VCALENDAR
VERSION:2.0
PRODID:-//ChamberMaster//Event Calendar 2.0//EN
METHOD:PUBLISH
X-PUBLISHED-TTL:P3D
REFRESH-INTERVAL:P3D
CALSCALE:GREGORIAN
BEGIN:VEVENT
DTSTART:20200603T140000Z
DTEND:20200603T144000Z
X-MICROSOFT-CDO-ALLDAYEVENT:FALSE
SUMMARY:Toddler Time
DESCRIPTION:Wednesdays\, 10am on Facebook Live / Wednesdays\, 10:20am on Instagram Live Wednesdays\, June 3 through July 22 Songs\, rhymes\, and stories for toddlers. 18 mos to 3 years
X-ALT-DESC;FMTTYPE=text/html:Wednesdays\, 10am on Facebook Live / Wednesdays\, 10:20am on Instagram Live Wednesdays\, June 3 through July 22 Songs\, rhymes\, and stories for toddlers. 18 mos to 3 years
LOCATION:Facebook @Granville Public Library Instagram @GPL_Kids
UID:e.180.14502
SEQUENCE:3
DTSTAMP:20260422T114028Z
URL:https://business.granvilleoh.com/events/details/toddler-time-06-03-2020-14502
END:VEVENT

END:VCALENDAR
