BEGIN:VCALENDAR
VERSION:2.0
PRODID:-//ChamberMaster//Event Calendar 2.0//EN
METHOD:PUBLISH
X-PUBLISHED-TTL:P3D
REFRESH-INTERVAL:P3D
CALSCALE:GREGORIAN
BEGIN:VEVENT
DTSTART:20210609T140000Z
DTEND:20210610T023000Z
X-MICROSOFT-CDO-ALLDAYEVENT:FALSE
SUMMARY:Toddler Time
DESCRIPTION:Songs and rhymes at the Robbins Hunter Museum\, behind the historic house in the Garden Folly\, weather permitting. The program will be cancelled for inclement weather. Ages 19 months to 3 years. Wednesdays at 10am in June and July beginning June 10.
X-ALT-DESC;FMTTYPE=text/html:Songs and rhymes at the Robbins Hunter Museum\, behind the historic house in the Garden Folly\, weather permitting. The program will be cancelled for inclement weather. Ages 19 months to 3 years. Wednesdays at 10am in June and July beginning June 10.
LOCATION:Robbins Hunter Museum gardens with the Granville Public Library
UID:e.180.14794
SEQUENCE:3
DTSTAMP:20260421T175308Z
URL:https://business.granvilleoh.com/events/details/toddler-time-06-09-2021-14794
END:VEVENT

END:VCALENDAR
