BEGIN:VCALENDAR
VERSION:2.0
PRODID:-//ChamberMaster//Event Calendar 2.0//EN
METHOD:PUBLISH
X-PUBLISHED-TTL:P3D
REFRESH-INTERVAL:P3D
CALSCALE:GREGORIAN
BEGIN:VEVENT
DTSTART:20211029T220000Z
DTEND:20211029T230000Z
X-MICROSOFT-CDO-ALLDAYEVENT:FALSE
SUMMARY:Trick or Treat Bingo (Teens)
DESCRIPTION:Will you win a trick or a treat? You could win something awesome like a gift card or something ghastly like a nose flute....we're leaving it up to the fates to decide. For teens in grades 7-12. Register at GranvilleLibrary.org/calendar/month
X-ALT-DESC;FMTTYPE=text/html:Will you win a trick or a treat? You could win something awesome like a gift card or something ghastly like a nose flute....we&#39\;re leaving it up to the fates to decide. For teens in grades 7-12. Register at GranvilleLibrary.org/calendar/month
LOCATION:Granville Public Library
UID:e.180.16099
SEQUENCE:3
DTSTAMP:20260421T125441Z
URL:https://business.granvilleoh.com/events/details/trick-or-treat-bingo-teens-16099
END:VEVENT

END:VCALENDAR
