BEGIN:VCALENDAR
VERSION:2.0
PRODID:-//ChamberMaster//Event Calendar 2.0//EN
METHOD:PUBLISH
X-PUBLISHED-TTL:P3D
REFRESH-INTERVAL:P3D
CALSCALE:GREGORIAN
BEGIN:VEVENT
DTSTART:20201114T000000Z
DTEND:20201114T010000Z
X-MICROSOFT-CDO-ALLDAYEVENT:FALSE
SUMMARY:Trivia Night for Adults (Zoom & Kahoot)
DESCRIPTION:Test your knowledge of random facts and useless knowledge in a casual & fun hour of trivia! We'll meet on Zoom and play the game via Kahoot\, so please make sure that you have access to two devices or set up your desktop to have two browser windows open side-by-side. We'll be giving away Ross Market gift cards as prizes. Registration required. You will be emailed a Zoom link about an hour before the start of the program. Register at GranvilleLibrary.org/calendar/month
X-ALT-DESC;FMTTYPE=text/html:Test your knowledge of random facts and useless knowledge in a casual &amp\; fun hour of trivia! We&#39\;ll meet on Zoom and play the game via Kahoot\, so please make sure that you have access to two devices or set up your desktop to have two browser windows open side-by-side. We&#39\;ll be giving away Ross Market gift cards as prizes. Registration required. You will be emailed a Zoom link about an hour before the start of the program. Register at GranvilleLibrary.org/calendar/month
LOCATION:Granville Public Library via Zoom
UID:e.180.14670
SEQUENCE:3
DTSTAMP:20260422T033403Z
URL:https://business.granvilleoh.com/events/details/trivia-night-for-adults-zoom-kahoot-14670
END:VEVENT

END:VCALENDAR
