BEGIN:VCALENDAR
VERSION:2.0
PRODID:-//ChamberMaster//Event Calendar 2.0//EN
METHOD:PUBLISH
X-PUBLISHED-TTL:P3D
REFRESH-INTERVAL:P3D
CALSCALE:GREGORIAN
BEGIN:VEVENT
DTSTART:20201022T223000Z
DTEND:20201022T233000Z
X-MICROSOFT-CDO-ALLDAYEVENT:FALSE
SUMMARY:Troy Michie Artist Talk
DESCRIPTION:The Department of Studio Art welcomes Troy Michie presenting an artist talk. Michie is an American collage artist\, painter\, interdisciplinary installation artist\, and sculptor based in New York City. Michie's work is often in dialogue with the canon of collage\; as well as\, investigating society's understanding of race\, gender\, sexuality\, and other fields of identity and power.\n\nThe event is open to the public on zoom. Register to receive the zoom link.
X-ALT-DESC;FMTTYPE=text/html:<p>The Department of Studio Art welcomes Troy Michie presenting an artist talk. Michie is an American collage artist\, painter\, interdisciplinary installation artist\, and sculptor based in New York City. Michie&rsquo\;s work is often in dialogue with the canon of collage\; as well as\, investigating society&rsquo\;s understanding of race\, gender\, sexuality\, and other fields of identity and power.</p>\n\n<p>The event is open to the public on zoom. Register to receive the zoom link.</p>\n
LOCATION:Virtual
UID:e.180.14629
SEQUENCE:3
DTSTAMP:20260422T044051Z
URL:https://business.granvilleoh.com/events/details/troy-michie-artist-talk-14629
END:VEVENT

END:VCALENDAR
