BEGIN:VCALENDAR
VERSION:2.0
PRODID:-//ChamberMaster//Event Calendar 2.0//EN
METHOD:PUBLISH
X-PUBLISHED-TTL:P3D
REFRESH-INTERVAL:P3D
CALSCALE:GREGORIAN
BEGIN:VEVENT
DTSTART:20200303T233000Z
DTEND:20200304T003000Z
X-MICROSOFT-CDO-ALLDAYEVENT:FALSE
SUMMARY:Denison's TUTTI Festival: Artistic Athletes/Athletic Artists
DESCRIPTION:Denison University's TUTTI festival presents Artistic Athletes/Athletic Artists.\n\n\n\nDenison's TUTTI Festival 2020 celebrates the arts through concerts\, workshops and exhibits and takes place March 3 through March 7\, 2020.
X-ALT-DESC;FMTTYPE=text/html:<span style="background-color:transparent\; color:rgb(42\, 42\, 51)\; font-family:arial\; font-size:11pt">Denison University&rsquo\;s TUTTI festival presents&nbsp\;</span><span style="color:rgb(0\, 0\, 0)\; font-family:arial\; font-size:11pt">Artistic Athletes/Athletic Artists.</span><br />\n<br />\n<span style="color:rgb(69\, 69\, 69)\; font-family:freight sans pro w00\; font-size:19.2px">Denison&rsquo\;s TUTTI Festival 2020 celebrates the arts through concerts\, workshops and exhibits and takes place March 3 through March 7\, 2020.</span>
LOCATION:Denison University Mitchell Recreation and Athletics Center 200 Livingston Drive
UID:e.180.14328
SEQUENCE:3
DTSTAMP:20260422T142956Z
URL:https://business.granvilleoh.com/events/details/tutti-festival-artistic-athletes-athletic-artists-14328
END:VEVENT

END:VCALENDAR
