BEGIN:VCALENDAR
VERSION:2.0
PRODID:-//ChamberMaster//Event Calendar 2.0//EN
METHOD:PUBLISH
X-PUBLISHED-TTL:P3D
REFRESH-INTERVAL:P3D
CALSCALE:GREGORIAN
BEGIN:VEVENT
DTSTART:20201215T210000Z
DTEND:20201215T230000Z
X-MICROSOFT-CDO-ALLDAYEVENT:FALSE
SUMMARY:Tween 3D Printed Holiday Project (Zoom)
DESCRIPTION:We will meet via Zoom and walk through using Tinkercad\, an easy online program. We will create one of three options for the holiday season. This class is best taken on a home computer. Limit 6. For grades 4-6 Registration required. You will be emailed a Zoom link about an hour before the start of the program. Register at GranvilleLibrary.org/calendar/month
X-ALT-DESC;FMTTYPE=text/html:We will meet via Zoom and walk through using Tinkercad\, an easy online program. We will create one of three options for the holiday season. This class is best taken on a home computer. Limit 6. For grades 4-6 Registration required. You will be emailed a Zoom link about an hour before the start of the program. Register at GranvilleLibrary.org/calendar/month
LOCATION:Granville Public Library via Zoom
UID:e.180.14693
SEQUENCE:3
DTSTAMP:20260422T020055Z
URL:https://business.granvilleoh.com/events/details/tween-3d-printed-holiday-project-zoom-14693
END:VEVENT

END:VCALENDAR
