BEGIN:VCALENDAR
VERSION:2.0
PRODID:-//ChamberMaster//Event Calendar 2.0//EN
METHOD:PUBLISH
X-PUBLISHED-TTL:P3D
REFRESH-INTERVAL:P3D
CALSCALE:GREGORIAN
BEGIN:VEVENT
DTSTART:20201119T210000Z
DTEND:20201119T230000Z
X-MICROSOFT-CDO-ALLDAYEVENT:FALSE
SUMMARY:Tween 3D Printing Word Art via Zoom
DESCRIPTION:We'll meet via Zoom and walk through using TinkerCad\, an easy online program. We will create art for your space by using 3D printed letters. This class is best taken on a home computer. Grades 4-6 Register at GranvilleLibrary.org/calendar/month
X-ALT-DESC;FMTTYPE=text/html:We&#39\;ll meet via Zoom and walk through using TinkerCad\, an easy online program. We will create art for your space by using 3D printed letters. This class is best taken on a home computer. Grades 4-6 Register at GranvilleLibrary.org/calendar/month
LOCATION:Granville Public Library via Zoom
UID:e.180.14657
SEQUENCE:3
DTSTAMP:20260422T033233Z
URL:https://business.granvilleoh.com/events/details/tween-3d-printing-word-art-via-zoom-14657
END:VEVENT

END:VCALENDAR
