BEGIN:VCALENDAR
VERSION:2.0
PRODID:-//ChamberMaster//Event Calendar 2.0//EN
METHOD:PUBLISH
X-PUBLISHED-TTL:P3D
REFRESH-INTERVAL:P3D
CALSCALE:GREGORIAN
BEGIN:VEVENT
DTSTART:20210318T220000Z
DTEND:20210318T222000Z
X-MICROSOFT-CDO-ALLDAYEVENT:FALSE
SUMMARY:Twilight Tales
DESCRIPTION:Live on the Granville Public Library Kids YouTube Channel. (Ages 3 to 5). Put on your jammies and get tucked in to listen to live bedtime stories.
X-ALT-DESC;FMTTYPE=text/html:Live on the Granville Public Library Kids YouTube Channel. (Ages 3 to 5). Put on your jammies and get tucked in to listen to live bedtime stories.
LOCATION:Granville Public Library Kids You Tube channel
UID:e.180.14756
SEQUENCE:3
DTSTAMP:20260421T220236Z
URL:https://business.granvilleoh.com/events/details/twilight-tales-14756
END:VEVENT

END:VCALENDAR
