BEGIN:VCALENDAR
VERSION:2.0
PRODID:-//ChamberMaster//Event Calendar 2.0//EN
METHOD:PUBLISH
X-PUBLISHED-TTL:P3D
REFRESH-INTERVAL:P3D
CALSCALE:GREGORIAN
BEGIN:VEVENT
DTSTART:20210611T220000Z
DTEND:20210611T224500Z
X-MICROSOFT-CDO-ALLDAYEVENT:FALSE
SUMMARY:Two Truths and a Lie: Animal Edition on Zoom
DESCRIPTION:Can you identify which of three statements is false? Compete with other families as your knowledge about animals is tested. Families with Kids Grades K to 6. Register to receive Zoom login the day of the program. GranvilleLIbrary.org/calendar/month
X-ALT-DESC;FMTTYPE=text/html:Can you identify which of three statements is false? Compete with other families as your knowledge about animals is tested. Families with Kids Grades K to 6. Register to receive Zoom login the day of the program. GranvilleLIbrary.org/calendar/month
LOCATION:Granville Public Library via Zoom
UID:e.180.14799
SEQUENCE:3
DTSTAMP:20260421T191529Z
URL:https://business.granvilleoh.com/events/details/two-truths-and-a-lie-animal-edition-on-zoom-14799
END:VEVENT

END:VCALENDAR
