BEGIN:VCALENDAR
VERSION:2.0
PRODID:-//ChamberMaster//Event Calendar 2.0//EN
METHOD:PUBLISH
X-PUBLISHED-TTL:P3D
REFRESH-INTERVAL:P3D
CALSCALE:GREGORIAN
BEGIN:VEVENT
DTSTART:20210629T190000Z
DTEND:20210629T194500Z
X-MICROSOFT-CDO-ALLDAYEVENT:FALSE
SUMMARY:Unicorns: Break the Cage on Zoom
DESCRIPTION:Join us on a wild animal science adventure about two kids who visit the city zoo and discover all sorts of incredible animals\, including a horse who knows in its heart it's truly a unicorn. Rising Grades K to 6. Register to receive Zoom login the day of the program.GranvilleLibrary.org/calendar/month
X-ALT-DESC;FMTTYPE=text/html:Join us on a wild animal science adventure about two kids who visit the city zoo and discover all sorts of incredible animals\, including a horse who knows in its heart it&rsquo\;s truly a unicorn. Rising Grades K to 6. Register to receive Zoom login the day of the program.GranvilleLibrary.org/calendar/month
LOCATION:Granville Public Library via Zoom
UID:e.180.14822
SEQUENCE:3
DTSTAMP:20260421T175307Z
URL:https://business.granvilleoh.com/events/details/unicorns-break-the-cage-on-zoom-14822
END:VEVENT

END:VCALENDAR
