BEGIN:VCALENDAR
VERSION:2.0
PRODID:-//ChamberMaster//Event Calendar 2.0//EN
METHOD:PUBLISH
X-PUBLISHED-TTL:P3D
REFRESH-INTERVAL:P3D
CALSCALE:GREGORIAN
BEGIN:VEVENT
DTSTART:20200103T200000Z
DTEND:20200103T213000Z
X-MICROSOFT-CDO-ALLDAYEVENT:FALSE
SUMMARY:Up to Snow Good
DESCRIPTION:Teens\, we'll meet at GES for a flurry of snow themed games in the multi-purpose room. Come prepared for an an indoor snowball fight\, snow themed treats\, and some slip sliding fun! Exclusively for grades 7-12.
X-ALT-DESC;FMTTYPE=text/html:Teens\, we&#39\;ll meet at GES for a flurry of snow themed games in the multi-purpose room. Come prepared for an an indoor snowball fight\, snow themed treats\, and some slip sliding fun! Exclusively for grades 7-12.
LOCATION:Granville Public Library
UID:e.180.14011
SEQUENCE:3
DTSTAMP:20260422T170943Z
URL:https://business.granvilleoh.com/events/details/up-to-snow-good-14011
END:VEVENT

END:VCALENDAR
