BEGIN:VCALENDAR
VERSION:2.0
PRODID:-//ChamberMaster//Event Calendar 2.0//EN
METHOD:PUBLISH
X-PUBLISHED-TTL:P3D
REFRESH-INTERVAL:P3D
CALSCALE:GREGORIAN
BEGIN:VEVENT
DTSTART:20200924T160000Z
DTEND:20200924T170000Z
X-MICROSOFT-CDO-ALLDAYEVENT:FALSE
SUMMARY:Van Gogh: The Life and the Art
DESCRIPTION:Join us as Pulitzer Prize-winning author\, Steven Naifeh\, talks about the lessons that he and co-author\, Gregory White Smith\, learned from the 10 years they spent researching and writing about the life of legendary Dutch artist Vincent van Gogh.\n\nRegister to receive the Zoom link for the event.\n\nSponsored by the Denison Museum.
X-ALT-DESC;FMTTYPE=text/html:<p>Join us as Pulitzer Prize-winning author\, Steven Naifeh\, talks about the lessons that he and co-author\, Gregory White Smith\, learned from the 10 years they spent researching and writing about the life of legendary Dutch artist Vincent van Gogh.</p>\n\n<p>Register to receive the Zoom link for the event.</p>\n\n<p>Sponsored by the Denison Museum.</p>\n
LOCATION:Virtual
UID:e.180.14620
SEQUENCE:3
DTSTAMP:20260422T072506Z
URL:https://business.granvilleoh.com/events/details/van-gogh-the-life-and-the-art-14620
END:VEVENT

END:VCALENDAR
