BEGIN:VCALENDAR
VERSION:2.0
PRODID:-//ChamberMaster//Event Calendar 2.0//EN
METHOD:PUBLISH
X-PUBLISHED-TTL:P3D
REFRESH-INTERVAL:P3D
CALSCALE:GREGORIAN
BEGIN:VEVENT
DTSTART:20200306T003000Z
DTEND:20200306T030000Z
X-MICROSOFT-CDO-ALLDAYEVENT:FALSE
SUMMARY:Victoria Woodhull: Phoenix Rising- Women in Politics
DESCRIPTION:Victoria Woodhull: Phoenix Rising\n\nWomen In Politics \n\n\n\nJoining us for this discussion are women who broke the mold and others who are trying to.\n\n\n\nKATE BLACK \n\nSUPREME COURT JUSTICE SHARON KENNEDY\n\nJUDGE THERESA LISTON\n\nALAINA SHEARER
X-ALT-DESC;FMTTYPE=text/html:<p><span style="font-size:16px">Victoria Woodhull: Phoenix Rising</span><br />\n<span style="font-size:18px"><span style="font-size:20px">Women In Politics </span><br />\n<br />\n<span style="font-size:14px">Joining us for this discussion are women who broke the mold and others who are trying to.<br />\n<br />\nKATE BLACK </span></span><br />\n<span style="font-size:18px"><span style="font-size:14px">SUPREME COURT JUSTICE SHARON KENNEDY<br />\nJUDGE THERESA LISTON<br />\nALAINA SHEARER</span></span><br />\n&nbsp\;</p>\n
LOCATION:Cherry Valley Hotel 2299 Cherry Valley Rd SE\, Newark\, OH 43055
UID:e.180.14353
SEQUENCE:3
DTSTAMP:20260422T154724Z
URL:https://business.granvilleoh.com/events/details/victoria-woodhull-phoenix-rising-women-in-politics-14353
END:VEVENT

END:VCALENDAR
