BEGIN:VCALENDAR
VERSION:2.0
PRODID:-//ChamberMaster//Event Calendar 2.0//EN
METHOD:PUBLISH
X-PUBLISHED-TTL:P3D
REFRESH-INTERVAL:P3D
CALSCALE:GREGORIAN
BEGIN:VEVENT
DTSTART:20201009T233000Z
DTEND:20201010T003000Z
X-MICROSOFT-CDO-ALLDAYEVENT:FALSE
SUMMARY:Violinist Anyango Yarbo-Davenport Presents a Virtual Recital
DESCRIPTION:Born and raised in Munich (Germany)\, Yarbo-Davenport was born into the musical family of American soprano Africa Yarbo-Davenport and the late Austrian conductor Hans Peter Jillich. She regularly performs in venues such as Carnegie Hall\, Kennedy Center\, Royal Festival Hall London\, Teatro Mayor Bogot \, Mozarteum Saal Salzburg\, and Teatro Colon. Her performances can be heard on Radio & TV in the US\, South America and Europe. She is the winner of the Theodore Presser Scholar Award\, International Competition for Romantic Music\, IBLA World Competition Italy\, Jugend Musiziert Germany\, Alpen-Adria Wettbewerb\, MTNA USA\, the Rotary Club Salzburg Prize\, among others. Yarbo-Davenport's upcoming recording of violin and piano works was awarded the coveted research prize of the Banco Santander de Colombia.\n\n?Currently she is assistant professor of Violin and Coordinator of Violin and Chamber Music at the Pontifical Javeriana University. Yarbo-Davenport conducted and directed the New Horizons Orchestras at Eastman from 2009-14. The WXXI documentary "Music for Life: The Story of New Horizons" in which Yarbo-Davenport and her orchestras appear\, won at the 59th Emmy Awards.\n\n?Zoom log in information will be emailed to you after registration.
X-ALT-DESC;FMTTYPE=text/html:<p><span style="font-family:arial\; font-size:11pt">Born and raised in Munich (Germany)\, Yarbo-Davenport was born into the musical family of American soprano Africa Yarbo-Davenport and the late Austrian conductor Hans Peter Jillich. She regularly performs in venues such as Carnegie Hall\, Kennedy Center\, Royal Festival Hall London\, Teatro Mayor Bogot&aacute\;\, Mozarteum Saal Salzburg\, and Teatro Colon. Her performances can be heard on Radio &amp\; TV in the US\, South America and Europe. She is the winner of the Theodore Presser Scholar Award\, International Competition for Romantic Music\, IBLA World Competition Italy\, Jugend Musiziert Germany\, Alpen-Adria Wettbewerb\, MTNA USA\, the Rotary Club Salzburg Prize\, among others. Yarbo-Davenport&rsquo\;s upcoming recording of violin and piano works was awarded the coveted research prize of the Banco Santander de Colombia.</span></p>\n\n<p><span style="font-family:arial\; font-size:11pt">?</span><span style="font-family:arial\; font-size:11pt">Currently she is assistant professor of Violin and Coordinator of Violin and Chamber Music at the Pontifical Javeriana University. Yarbo-Davenport conducted and directed the New Horizons Orchestras at Eastman from 2009-14. The WXXI documentary &quot\;Music for Life: The Story of New Horizons&quot\; in which Yarbo-Davenport and her orchestras appear\, won at the 59th Emmy Awards.</span></p>\n\n<p><span style="font-family:arial\; font-size:11pt">?</span><span style="font-family:arial\; font-size:11pt">Zoom log in information will be emailed to you after registration.</span></p>\n
LOCATION:Virtual
UID:e.180.14638
SEQUENCE:3
DTSTAMP:20260422T045713Z
URL:https://business.granvilleoh.com/events/details/violinist-anyango-yarbo-davenport-presents-a-virtual-recital-14638
END:VEVENT

END:VCALENDAR
