BEGIN:VCALENDAR
VERSION:2.0
PRODID:-//ChamberMaster//Event Calendar 2.0//EN
METHOD:PUBLISH
X-PUBLISHED-TTL:P3D
REFRESH-INTERVAL:P3D
CALSCALE:GREGORIAN
BEGIN:VEVENT
DTSTART:20200617T153000Z
DTEND:20200617T170000Z
X-MICROSOFT-CDO-ALLDAYEVENT:FALSE
SUMMARY:(Virtual) Member Meeting & Luncheon
DESCRIPTION:"Zoom 101   Video Conferencing from Home"\n\n\n\nGary Chisolm of Chisolm Studios Photography will provide an informative presentation and discussion on the subject of effective video conferencing.  During this period of social distancing many of us have been thrust into an environment where virtual communication has become the norm.  Gary will help us learn how to maximize and optimize this communication channel.\n\n\n\nOur new practice is encourage all who attend to get a takeout lunch item from one of our local Chamber member restaurants to enjoy during our virtual gathering.  Here are several to choose from:\n\n\n\nBroadway Pub    (740) 587-0252        Knucklehead's    (740) 587-0850\n\nDay Y Noche      (740) 587-0204        Palumbo's           (740) 587-0409\n\nDonatos              (740) 920-4774        Ross' Market       (740) 587-0031\n\nAlfie's                  (740) 321-1111         Prospect St. Smoothies  (740) 364-8983
X-ALT-DESC;FMTTYPE=text/html:<span style="font-family:calibri\,sans-serif\;"><span style="font-size:11.0pt\;">&ldquo\;Zoom 101 &ndash\; Video Conferencing from Home&rdquo\;</span></span><br />\n<br />\nGary Chisolm of Chisolm Studios Photography will provide an informative presentation and discussion on the subject of effective video conferencing.&nbsp\; During this period of social distancing many of us have been thrust into an environment where virtual communication has become the norm.&nbsp\; Gary will help us learn how to maximize and optimize this communication channel.<br />\n<br />\nOur new practice is encourage all who attend to get a takeout lunch item from one of our local Chamber member restaurants to enjoy during our virtual gathering.&nbsp\; Here are several to choose from:<br />\n<br />\nBroadway Pub&nbsp\; &nbsp\; (740) 587-0252&nbsp\;&nbsp\;&nbsp\;&nbsp\;&nbsp\; &nbsp\; Knucklehead&#39\;s&nbsp\; &nbsp\; (740) 587-0850<br />\nDay Y Noche&nbsp\;&nbsp\;&nbsp\;&nbsp\;&nbsp\; (740) 587-0204&nbsp\;&nbsp\;&nbsp\;&nbsp\;&nbsp\; &nbsp\; Palumbo&#39\;s&nbsp\;&nbsp\;&nbsp\;&nbsp\;&nbsp\;&nbsp\;&nbsp\;&nbsp\;&nbsp\;&nbsp\; (740) 587-0409<br />\nDonatos&nbsp\;&nbsp\;&nbsp\;&nbsp\;&nbsp\;&nbsp\;&nbsp\;&nbsp\;&nbsp\;&nbsp\;&nbsp\;&nbsp\;&nbsp\; (740) 920-4774&nbsp\;&nbsp\;&nbsp\;&nbsp\;&nbsp\; &nbsp\; Ross&#39\; Market&nbsp\;&nbsp\;&nbsp\;&nbsp\;&nbsp\; &nbsp\;(740) 587-0031<br />\nAlfie&#39\;s&nbsp\;&nbsp\;&nbsp\;&nbsp\;&nbsp\;&nbsp\;&nbsp\;&nbsp\;&nbsp\;&nbsp\;&nbsp\;&nbsp\;&nbsp\;&nbsp\;&nbsp\;&nbsp\;&nbsp\; (740) 321-1111&nbsp\;&nbsp\;&nbsp\;&nbsp\;&nbsp\; &nbsp\; &nbsp\;Prospect St. Smoothies&nbsp\; (740) 364-8983
LOCATION:Stephen Matheny is inviting you to a scheduled Zoom meeting. Topic: Virtual Member Meeting & Luncheon Time: Jun 17\, 2020 11:30 AM Eastern Time (US and Canada) Join Zoom Meeting https://us02web.zoom.us/j/81508511259?pwd=VzFjenpTTWI0cE1idWN4QnFqNE8vUT09 Meeting ID: 815 0851 1259 Password: 833344 One tap mobile +13017158592\,\,81508511259#\,\,1#\,833344# US (Germantown) +13126266799\,\,81508511259#\,\,1#\,833344# US (Chicago) Dial by your location +1 301 715 8592 US (Germantown) +1 312 626 6799 US (Chicago) +1 646 558 8656 US (New York) +1 253 215 8782 US (Tacoma) +1 346 248 7799 US (Houston) +1 669 900 9128 US (San Jose) Meeting ID: 815 0851 1259 Password: 833344 Find your local number: https://us02web.zoom.us/u/keztKj83Z5
UID:e.180.14535
SEQUENCE:3
DTSTAMP:20260422T102159Z
URL:https://business.granvilleoh.com/events/details/virtual-member-meeting-luncheon-14535
END:VEVENT

END:VCALENDAR
