BEGIN:VCALENDAR
VERSION:2.0
PRODID:-//ChamberMaster//Event Calendar 2.0//EN
METHOD:PUBLISH
X-PUBLISHED-TTL:P3D
REFRESH-INTERVAL:P3D
CALSCALE:GREGORIAN
BEGIN:VEVENT
DTSTART:20200708T153000Z
DTEND:20200708T170000Z
X-MICROSOFT-CDO-ALLDAYEVENT:FALSE
SUMMARY:(Virtual) Member Meeting & Luncheon
DESCRIPTION:Our luncheon with Denison University's Red Frame Laboratory is THIS Wednesday!\n\n\n\nSpecial thanks to our luncheon sponsor\, Manufacturers' Education Council!\n\n\n\nMake a plan to join us for this virtual Member Meeting & Luncheon during which we will have comments from principals within Denison University's Red Frame Laboratory regarding their recent experience with providing student intern consulting teams to 'client' businesses during the month of June.  This was a new offering from the Red Frame Lab and a number of our local businesses took advantage of this opportunity to work with a consulting project team of eager students. Please join in the discussion of this unique collaborative endeavor.\n\n\n\nYou are also welcome and encouraged to secure your own lunch fare (which you will hopefully obtain from a local Chamber establishment!).  Maybe try one of these!\n\n\n\nBroadway Pub    (740) 587-0252        Knucklehead's    (740) 587-0850\n\nDay Y Noche      (740) 587-0204        Palumbo's           (740) 587-0409\n\nDonatos              (740) 920-4774        Ross' Market       (740) 587-0031\n\nAlfie's                  (740) 321-1111         Prospect St. Smoothie  (740) 364-8983\n\n                                                            Whit's Frozen Custard   (740) 504-4101
X-ALT-DESC;FMTTYPE=text/html:<span style="font-size:14px\;"><strong>Our luncheon with Denison University&#39\;s Red Frame Laboratory is THIS Wednesday!</strong><br />\n<br />\n<strong>Special thanks to our luncheon sponsor\, Manufacturers&#39\; Education Council!</strong></span><br />\n<br />\nMake a plan to join us for this virtual Member Meeting &amp\; Luncheon during which we will have comments from principals within Denison University&#39\;s Red Frame Laboratory regarding their recent experience with providing student intern consulting teams to &#39\;client&#39\; businesses during the month of June.&nbsp\; This was a new offering from the Red Frame Lab and a number of our local businesses took advantage of this opportunity to work with a consulting project team of eager students. Please join in the discussion of this unique collaborative endeavor.<br />\n<br />\n<span style="color: rgb(51\, 51\, 51)\; font-family: sans-serif\, Arial\, Verdana\, &quot\;Trebuchet MS&quot\;\; font-size: 12pt\;">You are also welcome and encouraged to secure your own lunch fare (which you will hopefully obtain from a local Chamber establishment!).&nbsp\; Maybe try one of these!</span><br style="color: rgb(51\, 51\, 51)\; font-family: sans-serif\, Arial\, Verdana\, &quot\;Trebuchet MS&quot\;\; font-size: 13px\;" />\n<br style="color: rgb(51\, 51\, 51)\; font-family: sans-serif\, Arial\, Verdana\, &quot\;Trebuchet MS&quot\;\; font-size: 13px\;" />\n<span style="color: rgb(51\, 51\, 51)\; font-family: sans-serif\, Arial\, Verdana\, &quot\;Trebuchet MS&quot\;\; font-size: 13px\; background-color: rgb(255\, 255\, 255)\;">Broadway Pub&nbsp\; &nbsp\; (740) 587-0252&nbsp\;&nbsp\;&nbsp\;&nbsp\;&nbsp\; &nbsp\; Knucklehead&#39\;s&nbsp\; &nbsp\; (740) 587-0850</span><br style="color: rgb(51\, 51\, 51)\; font-family: sans-serif\, Arial\, Verdana\, &quot\;Trebuchet MS&quot\;\; font-size: 13px\;" />\n<span style="color: rgb(51\, 51\, 51)\; font-family: sans-serif\, Arial\, Verdana\, &quot\;Trebuchet MS&quot\;\; font-size: 13px\; background-color: rgb(255\, 255\, 255)\;">Day Y Noche&nbsp\;&nbsp\;&nbsp\;&nbsp\;&nbsp\; (740) 587-0204&nbsp\;&nbsp\;&nbsp\;&nbsp\;&nbsp\; &nbsp\; Palumbo&#39\;s&nbsp\;&nbsp\;&nbsp\;&nbsp\;&nbsp\;&nbsp\;&nbsp\;&nbsp\;&nbsp\;&nbsp\; (740) 587-0409</span><br style="color: rgb(51\, 51\, 51)\; font-family: sans-serif\, Arial\, Verdana\, &quot\;Trebuchet MS&quot\;\; font-size: 13px\;" />\n<span style="color: rgb(51\, 51\, 51)\; font-family: sans-serif\, Arial\, Verdana\, &quot\;Trebuchet MS&quot\;\; font-size: 13px\; background-color: rgb(255\, 255\, 255)\;">Donatos&nbsp\;&nbsp\;&nbsp\;&nbsp\;&nbsp\;&nbsp\;&nbsp\;&nbsp\;&nbsp\;&nbsp\;&nbsp\;&nbsp\;&nbsp\; (740) 920-4774&nbsp\;&nbsp\;&nbsp\;&nbsp\;&nbsp\; &nbsp\; Ross&#39\; Market&nbsp\;&nbsp\;&nbsp\;&nbsp\;&nbsp\; &nbsp\;(740) 587-0031</span><br style="color: rgb(51\, 51\, 51)\; font-family: sans-serif\, Arial\, Verdana\, &quot\;Trebuchet MS&quot\;\; font-size: 13px\;" />\n<span style="color: rgb(51\, 51\, 51)\; font-family: sans-serif\, Arial\, Verdana\, &quot\;Trebuchet MS&quot\;\; font-size: 13px\; background-color: rgb(255\, 255\, 255)\;">Alfie&#39\;s&nbsp\;&nbsp\;&nbsp\;&nbsp\;&nbsp\;&nbsp\;&nbsp\;&nbsp\;&nbsp\;&nbsp\;&nbsp\;&nbsp\;&nbsp\;&nbsp\;&nbsp\;&nbsp\;&nbsp\; (740) 321-1111&nbsp\;&nbsp\;&nbsp\;&nbsp\;&nbsp\; &nbsp\; &nbsp\;Prospect St. Smoothie&nbsp\; (740) 364-8983</span><br style="color: rgb(51\, 51\, 51)\; font-family: sans-serif\, Arial\, Verdana\, &quot\;Trebuchet MS&quot\;\; font-size: 13px\;" />\n<span style="color: rgb(51\, 51\, 51)\; font-family: sans-serif\, Arial\, Verdana\, &quot\;Trebuchet MS&quot\;\; font-size: 13px\; background-color: rgb(255\, 255\, 255)\;">&nbsp\;&nbsp\;&nbsp\;&nbsp\;&nbsp\;&nbsp\;&nbsp\;&nbsp\;&nbsp\;&nbsp\;&nbsp\;&nbsp\;&nbsp\;&nbsp\;&nbsp\;&nbsp\;&nbsp\;&nbsp\;&nbsp\;&nbsp\;&nbsp\;&nbsp\;&nbsp\;&nbsp\;&nbsp\;&nbsp\;&nbsp\;&nbsp\;&nbsp\;&nbsp\;&nbsp\;&nbsp\;&nbsp\;&nbsp\;&nbsp\;&nbsp\;&nbsp\;&nbsp\;&nbsp\;&nbsp\;&nbsp\;&nbsp\;&nbsp\;&nbsp\;&nbsp\;&nbsp\;&nbsp\;&nbsp\;&nbsp\;&nbsp\;&nbsp\;&nbsp\;&nbsp\;&nbsp\;&nbsp\;&nbsp\;&nbsp\;&nbsp\;&nbsp\;&nbsp\;</span><span style="color: rgb(51\, 51\, 51)\; font-family: sans-serif\, Arial\, Verdana\, &quot\;Trebuchet MS&quot\;\; font-size: 13px\; background-color: rgb(255\, 255\, 255)\;">Whit&#39\;s Frozen Custard</span><span style="color: rgb(51\, 51\, 51)\; font-family: sans-serif\, Arial\, Verdana\, &quot\;Trebuchet MS&quot\;\; font-size: 13px\; background-color: rgb(255\, 255\, 255)\;">&nbsp\; &nbsp\;(740) 504-4101</span>
LOCATION:Stephen Matheny is inviting you to a scheduled Zoom meeting. Topic: (Virtual) Member Meeting & Luncheon Time: Jul 8\, 2020 11:30 AM Eastern Time (US and Canada) Join Zoom Meeting https://us02web.zoom.us/j/89981330814?pwd=SHJpV09ScVVxYm44RGNqeUQ5OTJTQT09 Meeting ID: 899 8133 0814 Password: 743398 One tap mobile +13017158592\,\,89981330814#\,\,\,\,0#\,\,743398# US (Germantown) +13126266799\,\,89981330814#\,\,\,\,0#\,\,743398# US (Chicago) Dial by your location +1 301 715 8592 US (Germantown) +1 312 626 6799 US (Chicago) +1 646 558 8656 US (New York) +1 253 215 8782 US (Tacoma) +1 346 248 7799 US (Houston) +1 669 900 9128 US (San Jose) Meeting ID: 899 8133 0814 Password: 743398 Find your local number: https://us02web.zoom.us/u/kfQaKgB9
UID:e.180.14559
SEQUENCE:3
DTSTAMP:20260422T090648Z
URL:https://business.granvilleoh.com/events/details/virtual-member-meeting-luncheon-14559
END:VEVENT

END:VCALENDAR
