BEGIN:VCALENDAR
VERSION:2.0
PRODID:-//ChamberMaster//Event Calendar 2.0//EN
METHOD:PUBLISH
X-PUBLISHED-TTL:P3D
REFRESH-INTERVAL:P3D
CALSCALE:GREGORIAN
BEGIN:VEVENT
DTSTART:20200812T153000Z
DTEND:20200812T170000Z
X-MICROSOFT-CDO-ALLDAYEVENT:FALSE
SUMMARY:(Virtual) Member Meeting & Luncheon
DESCRIPTION:Hear about Denison's Plan to Open and Welcome Students to Campus this Fall\n\n\n\nSpecial thanks to our luncheon sponsor\, Manufacturers' Education Council!\n\n\n\nMake a plan to join us for this virtual Member Meeting & Luncheon during which we will have Denison University President Dr. Adam Weinberg and other senior leaders from campus discuss their plans to re-open during the pandemic and the impacts it will have for the students\, faculty\, staff\, and the Granville community. Please share in this important discussion and be informed about a modified academic calendar\, comprehensive health strategies that are being implemented\, and related reopening topics.\n\n\n\nYou are also welcome and encouraged to secure your own lunch fare (which you will hopefully obtain from a local Chamber establishment!).  Maybe try one of these!\n\n\n\nBroadway Pub    (740) 587-0252        Knucklehead's    (740) 587-0850\n\nDay Y Noche      (740) 587-0204        Palumbo's           (740) 587-0409\n\nDonatos              (740) 920-4774        Ross' Market       (740) 587-0031\n\nAlfie's                  (740) 321-1111         Prospect St. Smoothie  (740) 364-8983\n\n                                                            Whit's Frozen Custard   (740) 504-4101
X-ALT-DESC;FMTTYPE=text/html:<font face="arial\, sans-serif"><span style="font-size: 14px\;"><b>Hear about Denison&#39\;s Plan to Open and Welcome Students to Campus this Fall</b></span></font><br />\n<br />\n<span style="color:#333333\;"><span style="font-family:arial\,sans-serif\;"><span style="font-size:10.5pt\;"><strong><span style="font-family:arial\,sans-serif\;">Special thanks to our luncheon sponsor\, Manufacturers&#39\; Education Council!</span></strong></span></span></span><br />\n<br />\n<span style="color:#333333\;"><span style="font-family:arial\,sans-serif\;"><span style="font-size:10.0pt\;"><span style="background:white\;"><span style="font-variant-ligatures:normal\;font-variant-caps:normal\;orphans:2\;text-align:start\;widows:2\;-webkit-text-stroke-width:0px\;text-decoration-style:initial\;float:none\;word-spacing:0px\;">Make a plan to join us for this virtual Member Meeting &amp\; Luncheon during which we will have Denison University President Dr. Adam Weinberg and other senior leaders from campus discuss their plans to re-open during the pandemic and the impacts it will have for the students\, faculty\, staff\, and the Granville community. Please share in this important discussion and be informed about a modified academic calendar\, comprehensive health strategies that are being implemented\, and related reopening topics.</span></span><br />\n<br style="font-variant-ligatures:normal\;font-variant-caps:normal\;orphans:2\;text-align:start\;widows:2\;-webkit-text-stroke-width:0px\;text-decoration-style:initial\;word-spacing:0px\;" />\n<span style="color:#333333\;"><span style="font-family:arial\,sans-serif\;"><span style="font-variant-ligatures:normal\;font-variant-caps:normal\;orphans:2\;text-align:start\;widows:2\;-webkit-text-stroke-width:0px\;text-decoration-style:initial\;word-spacing:0px\;">You are also welcome and encouraged to secure your own lunch fare (which you will hopefully obtain from a local Chamber establishment!).&nbsp\; Maybe try one of these!</span></span></span><br style="font-variant-ligatures:normal\;font-variant-caps:normal\;orphans:2\;text-align:start\;widows:2\;-webkit-text-stroke-width:0px\;text-decoration-style:initial\;word-spacing:0px\;" />\n<br style="font-variant-ligatures:normal\;font-variant-caps:normal\;orphans:2\;text-align:start\;widows:2\;-webkit-text-stroke-width:0px\;text-decoration-style:initial\;word-spacing:0px\;" />\n<span style="color:#333333\;"><span style="font-family:arial\,sans-serif\;"><span style="font-size:10.0pt\;"><span style="background:white\;"><span style="font-variant-ligatures:normal\;font-variant-caps:normal\;orphans:2\;text-align:start\;widows:2\;-webkit-text-stroke-width:0px\;text-decoration-style:initial\;word-spacing:0px\;">Broadway Pub&nbsp\; &nbsp\; (740) 587-0252&nbsp\;&nbsp\;&nbsp\;&nbsp\;&nbsp\; &nbsp\; Knucklehead&#39\;s&nbsp\; &nbsp\; (740) 587-0850</span></span><br style="font-variant-ligatures:normal\;font-variant-caps:normal\;orphans:2\;text-align:start\;widows:2\;-webkit-text-stroke-width:0px\;text-decoration-style:initial\;word-spacing:0px\;" />\n<span style="background:white\;"><span style="font-variant-ligatures:normal\;font-variant-caps:normal\;orphans:2\;text-align:start\;widows:2\;-webkit-text-stroke-width:0px\;text-decoration-style:initial\;word-spacing:0px\;">Day Y Noche&nbsp\;&nbsp\;&nbsp\;&nbsp\;&nbsp\; (740) 587-0204&nbsp\;&nbsp\;&nbsp\;&nbsp\;&nbsp\; &nbsp\; Palumbo&#39\;s&nbsp\;&nbsp\;&nbsp\;&nbsp\;&nbsp\;&nbsp\;&nbsp\;&nbsp\;&nbsp\;&nbsp\; (740) 587-0409</span></span><br style="font-variant-ligatures:normal\;font-variant-caps:normal\;orphans:2\;text-align:start\;widows:2\;-webkit-text-stroke-width:0px\;text-decoration-style:initial\;word-spacing:0px\;" />\n<span style="background:white\;"><span style="font-variant-ligatures:normal\;font-variant-caps:normal\;orphans:2\;text-align:start\;widows:2\;-webkit-text-stroke-width:0px\;text-decoration-style:initial\;word-spacing:0px\;">Donatos&nbsp\;&nbsp\;&nbsp\;&nbsp\;&nbsp\;&nbsp\;&nbsp\;&nbsp\;&nbsp\;&nbsp\;&nbsp\;&nbsp\;&nbsp\; (740) 920-4774&nbsp\;&nbsp\;&nbsp\;&nbsp\;&nbsp\; &nbsp\; Ross&#39\; Market&nbsp\;&nbsp\;&nbsp\;&nbsp\;&nbsp\; &nbsp\;(740) 587-0031</span></span><br style="font-variant-ligatures:normal\;font-variant-caps:normal\;orphans:2\;text-align:start\;widows:2\;-webkit-text-stroke-width:0px\;text-decoration-style:initial\;word-spacing:0px\;" />\n<span style="background:white\;"><span style="font-variant-ligatures:normal\;font-variant-caps:normal\;orphans:2\;text-align:start\;widows:2\;-webkit-text-stroke-width:0px\;text-decoration-style:initial\;word-spacing:0px\;">Alfie&#39\;s&nbsp\;&nbsp\;&nbsp\;&nbsp\;&nbsp\;&nbsp\;&nbsp\;&nbsp\;&nbsp\;&nbsp\;&nbsp\;&nbsp\;&nbsp\;&nbsp\;&nbsp\;&nbsp\;&nbsp\; (740) 321-1111&nbsp\;&nbsp\;&nbsp\;&nbsp\;&nbsp\; &nbsp\; &nbsp\;Prospect St. Smoothie&nbsp\; (740) 364-8983</span></span><br style="font-variant-ligatures:normal\;font-variant-caps:normal\;orphans:2\;text-align:start\;widows:2\;-webkit-text-stroke-width:0px\;text-decoration-style:initial\;word-spacing:0px\;" />\n<span style="background:white\;">&nbsp\;&nbsp\;&nbsp\;&nbsp\;&nbsp\;&nbsp\;&nbsp\;&nbsp\;&nbsp\;&nbsp\;&nbsp\;&nbsp\;&nbsp\;&nbsp\;&nbsp\;&nbsp\;&nbsp\;&nbsp\;&nbsp\;&nbsp\;&nbsp\;&nbsp\;&nbsp\;&nbsp\;&nbsp\;&nbsp\;&nbsp\;&nbsp\;&nbsp\;&nbsp\;&nbsp\;&nbsp\;&nbsp\;&nbsp\;&nbsp\;&nbsp\;&nbsp\;&nbsp\;&nbsp\;&nbsp\;&nbsp\;&nbsp\;&nbsp\;&nbsp\;&nbsp\;&nbsp\;&nbsp\;&nbsp\;&nbsp\;&nbsp\;&nbsp\;&nbsp\;&nbsp\;&nbsp\;&nbsp\;&nbsp\;&nbsp\;&nbsp\;&nbsp\;&nbsp\;<span style="font-variant-ligatures:normal\;font-variant-caps:normal\;orphans:2\;text-align:start\;widows:2\;-webkit-text-stroke-width:0px\;text-decoration-style:initial\;word-spacing:0px\;">Whit&#39\;s Frozen Custard</span><span style="font-variant-ligatures:normal\;font-variant-caps:normal\;orphans:2\;text-align:start\;widows:2\;-webkit-text-stroke-width:0px\;text-decoration-style:initial\;word-spacing:0px\;">&nbsp\; &nbsp\;(740) 504-4101</span></span></span></span></span></span></span></span>
LOCATION:Stephen Matheny is inviting you to a scheduled Zoom meeting. Topic: (Virtual) Member Meeting & Luncheon Time: Aug 12\, 2020 11:30 AM Eastern Time (US and Canada) Join Zoom Meeting https://us02web.zoom.us/j/86290077136?pwd=MytRYk1NQlQ3SlM2QUxuTFdha1Fsdz09 Meeting ID: 862 9007 7136 Passcode: 183851 One tap mobile +16465588656\,\,86290077136#\,\,\,\,\,\,0#\,\,183851# US (New York) +13017158592\,\,86290077136#\,\,\,\,\,\,0#\,\,183851# US (Germantown) Dial by your location +1 646 558 8656 US (New York) +1 301 715 8592 US (Germantown) +1 312 626 6799 US (Chicago) +1 669 900 9128 US (San Jose) +1 253 215 8782 US (Tacoma) +1 346 248 7799 US (Houston) Meeting ID: 862 9007 7136 Passcode: 183851 Find your local number: https://us02web.zoom.us/u/kCMilK9CK
UID:e.180.14570
SEQUENCE:3
DTSTAMP:20260422T071727Z
URL:https://business.granvilleoh.com/events/details/virtual-member-meeting-luncheon-14570
END:VEVENT

END:VCALENDAR
