BEGIN:VCALENDAR
VERSION:2.0
PRODID:-//ChamberMaster//Event Calendar 2.0//EN
METHOD:PUBLISH
X-PUBLISHED-TTL:P3D
REFRESH-INTERVAL:P3D
CALSCALE:GREGORIAN
BEGIN:VEVENT
DTSTART:20201006T153000Z
DTEND:20201006T170000Z
X-MICROSOFT-CDO-ALLDAYEVENT:FALSE
SUMMARY:(Virtual) Member Meeting & Luncheon
DESCRIPTION:What Happened and Where Are We Going?\n\n\nGROW Licking County CIC Executive Director Nate Strum will review the ongoing fallout from the Covid-19 pandemic including local and state-level impacts\, what economic indicators are showing re: the recovery from the pandemic\, what GROW has done to adjust its approach to expanding our local economy\, and answer any questions you may have.\n\n \n\n It is encouraged that -- if you have a complex question or would like specific data shared\, please share that inquiry beforehand so that the team at GROW Licking County CIC can do some research prior to the event.\n\n \nYou are also welcome and encouraged to secure your own lunch fare (which you will hopefully obtain from a local Chamber establishment!).  Maybe try one of these!\n\n\n\nBroadway Pub    (740) 587-0252        Knucklehead's    (740) 587-0850\n\nDay Y Noche      (740) 587-0204        Palumbo's           (740) 587-0409\n\nDonatos              (740) 920-4774        Ross' Market       (740) 587-0031\n\nAlfie's                  (740) 321-1111         Prospect St. Smoothie  (740) 364-8983\n\n                                                            Whit's Frozen Custard   (740) 504-4101
X-ALT-DESC;FMTTYPE=text/html:<font face="arial\, sans-serif"><span style="font-size: 14px\;"><b>What Happened and Where Are We Going?</b></span></font>\n<div style="color:#073763\;"><br />\n<span style="font-family:georgia\,serif\;">GROW Licking County CIC Executive Director Nate Strum will review the ongoing fallout from the Covid-19 pandemic including local and state-level impacts\, what economic indicators are showing re: the recovery from the pandemic\, what GROW has done to adjust its approach to expanding our local economy\, and answer any questions you may have.</span><br />\n&nbsp\;</div>\n\n<div style="color:#073763\;">&#8203\;<span style="font-family:georgia\,serif\;"><span style="font-family:georgia\,serif\;">It is encouraged that -- if you have a complex question or would like specific data shared\, please share that inquiry beforehand so that the team at GROW Licking County CIC can do some research prior to the event.</span></span><br />\n&nbsp\;</div>\n<span style="font-family: arial\, sans-serif\;"><span style="font-size: 10pt\;">You are also welcome and encouraged to secure your own lunch fare (which you will hopefully obtain from a local Chamber establishment!).&nbsp\; Maybe try one of these!<br />\n<br />\n<span style="font-size: 10pt\;"><span style="background-image: initial\; background-position: initial\; background-size: initial\; background-repeat: initial\; background-attachment: initial\; background-origin: initial\; background-clip: initial\;">Broadway Pub&nbsp\; &nbsp\; (740) 587-0252&nbsp\;&nbsp\;&nbsp\;&nbsp\;&nbsp\; &nbsp\; Knucklehead&#39\;s&nbsp\; &nbsp\; (740) 587-0850</span><br />\n<span style="background-image: initial\; background-position: initial\; background-size: initial\; background-repeat: initial\; background-attachment: initial\; background-origin: initial\; background-clip: initial\;">Day Y Noche&nbsp\;&nbsp\;&nbsp\;&nbsp\;&nbsp\; (740) 587-0204&nbsp\;&nbsp\;&nbsp\;&nbsp\;&nbsp\; &nbsp\; Palumbo&#39\;s&nbsp\;&nbsp\;&nbsp\;&nbsp\;&nbsp\;&nbsp\;&nbsp\;&nbsp\;&nbsp\;&nbsp\; (740) 587-0409</span><br />\n<span style="background-image: initial\; background-position: initial\; background-size: initial\; background-repeat: initial\; background-attachment: initial\; background-origin: initial\; background-clip: initial\;">Donatos&nbsp\;&nbsp\;&nbsp\;&nbsp\;&nbsp\;&nbsp\;&nbsp\;&nbsp\;&nbsp\;&nbsp\;&nbsp\;&nbsp\;&nbsp\; (740) 920-4774&nbsp\;&nbsp\;&nbsp\;&nbsp\;&nbsp\; &nbsp\; Ross&#39\; Market&nbsp\;&nbsp\;&nbsp\;&nbsp\;&nbsp\; &nbsp\;(740) 587-0031</span><br />\n<span style="background-image: initial\; background-position: initial\; background-size: initial\; background-repeat: initial\; background-attachment: initial\; background-origin: initial\; background-clip: initial\;">Alfie&#39\;s&nbsp\;&nbsp\;&nbsp\;&nbsp\;&nbsp\;&nbsp\;&nbsp\;&nbsp\;&nbsp\;&nbsp\;&nbsp\;&nbsp\;&nbsp\;&nbsp\;&nbsp\;&nbsp\;&nbsp\; (740) 321-1111&nbsp\;&nbsp\;&nbsp\;&nbsp\;&nbsp\; &nbsp\; &nbsp\;Prospect St. Smoothie&nbsp\; (740) 364-8983</span><br />\n<span style="background-image: initial\; background-position: initial\; background-size: initial\; background-repeat: initial\; background-attachment: initial\; background-origin: initial\; background-clip: initial\;">&nbsp\;&nbsp\;&nbsp\;&nbsp\;&nbsp\;&nbsp\;&nbsp\;&nbsp\;&nbsp\;&nbsp\;&nbsp\;&nbsp\;&nbsp\;&nbsp\;&nbsp\;&nbsp\;&nbsp\;&nbsp\;&nbsp\;&nbsp\;&nbsp\;&nbsp\;&nbsp\;&nbsp\;&nbsp\;&nbsp\;&nbsp\;&nbsp\;&nbsp\;&nbsp\;&nbsp\;&nbsp\;&nbsp\;&nbsp\;&nbsp\;&nbsp\;&nbsp\;&nbsp\;&nbsp\;&nbsp\;&nbsp\;&nbsp\;&nbsp\;&nbsp\;&nbsp\;&nbsp\;&nbsp\;&nbsp\;&nbsp\;&nbsp\;&nbsp\;&nbsp\;&nbsp\;&nbsp\;&nbsp\;&nbsp\;&nbsp\;&nbsp\;&nbsp\;&nbsp\;Whit&#39\;s Frozen Custard&nbsp\; &nbsp\;(740) 504-4101</span></span></span></span>
LOCATION:
UID:e.180.14631
SEQUENCE:3
DTSTAMP:20260422T044510Z
URL:https://business.granvilleoh.com/events/details/virtual-member-meeting-luncheon-14631
END:VEVENT

END:VCALENDAR
