BEGIN:VCALENDAR
VERSION:2.0
PRODID:-//ChamberMaster//Event Calendar 2.0//EN
METHOD:PUBLISH
X-PUBLISHED-TTL:P3D
REFRESH-INTERVAL:P3D
CALSCALE:GREGORIAN
BEGIN:VEVENT
DTSTART:20201118T163000Z
DTEND:20201118T180000Z
X-MICROSOFT-CDO-ALLDAYEVENT:FALSE
SUMMARY:(Virtual) Member Meeting & Luncheon
DESCRIPTION:Join us to hear Explore Licking County's Director of Partner Engagement\, Carol Thress\, talk about how tourism is doing during the pandemic and how ELC has shifted their marketing efforts in response.
X-ALT-DESC;FMTTYPE=text/html:<span style="font-family:calibri\,sans-serif\;"><span style="font-size:11.0pt\;">Join us to hear Explore Licking County&#39\;s Director of Partner Engagement\, Carol Thress\, talk about how tourism is doing during the pandemic and how ELC has shifted their marketing efforts in response.</span></span>
LOCATION:Please register for zoom link
UID:e.180.14690
SEQUENCE:3
DTSTAMP:20260422T033057Z
URL:https://business.granvilleoh.com/events/details/virtual-member-meeting-luncheon-14690
END:VEVENT

END:VCALENDAR
