BEGIN:VCALENDAR
VERSION:2.0
PRODID:-//ChamberMaster//Event Calendar 2.0//EN
METHOD:PUBLISH
X-PUBLISHED-TTL:P3D
REFRESH-INTERVAL:P3D
CALSCALE:GREGORIAN
BEGIN:VEVENT
DTSTART:20210224T163000Z
DTEND:20210224T180000Z
X-MICROSOFT-CDO-ALLDAYEVENT:FALSE
SUMMARY:(Virtual) Member Meeting & Luncheon
DESCRIPTION:"COVID-19 Relief and Tax Updates"\n\n\n\n  Local experts provide an overview of the Paycheck Protection Program and Economic Injury Disaster Loans and grants and how they are affected by the new legislation.\n\n  The basics of the Employee Retention Tax Credit and how it can benefit small businesses.\n\n  Answers to frequently asked questions regarding the stimulus payments and other tax updates.\n\n\n\n\n\nWe encourage you to pick up lunch in advance at one of these Chamber restaurants.\n\n\n\nYour comfort and safety is important to us. Please call ahead to your restaurant of choice to confirm they have an environment compatible to your desires and safety needs. \n\n\n\nAlfie's   \n\n(740) 321-1111 \n\n\n\nSteamRoller Bagel   \n\n(740) 777-9145\n\n\n\nBroadway Pub   \n\n(740) 587-0252     \n\n\n\nPalumbo's   \n\n(740) 587-0409      \n\n\n\nDay Y Noche   \n\n(740) 587-0204     \n\n\n\nMai Chau / Three Tigers\n\n(740) 920-4680\n\n\n\nDonatos   \n\n(740) 920-4774     \n\n     \n\nVillage Coffee Company\n\n(740) 587-4940\n\n\n\nKnucklehead's   \n\n(740) 587-0850\n\n\n\nProspect St. Smoothie   \n\n(740) 364-8983
X-ALT-DESC;FMTTYPE=text/html:<span style="font-size:16px\;"><strong><span style="font-size:20px\;"><span style="font-family:calibri\,sans-serif\;">&ldquo\;COVID-19 Relief and Tax Updates&rdquo\;</span></span><br />\n<br style="box-sizing: inherit\; color: rgb(64\, 64\, 64)\; font-family: arial\, sans-serif\; font-size: 13.6px\;" />\n<span style="color: rgb(64\, 64\, 64)\; font-family: arial\, sans-serif\;">&bull\;&nbsp\;Local experts provide an overview of the Paycheck Protection Program and Economic Injury Disaster Loans and grants and how they are affected by the new legislation.</span><br style="box-sizing: inherit\; color: rgb(64\, 64\, 64)\; font-family: arial\, sans-serif\; font-size: 13.6px\;" />\n<span style="color: rgb(64\, 64\, 64)\; font-family: arial\, sans-serif\;">&bull\; The basics of the Employee Retention Tax Credit and how it can benefit small businesses.</span><br />\n<span style="color: rgb(64\, 64\, 64)\; font-family: arial\, sans-serif\;">&bull\; Answers to frequently asked questions regarding the stimulus payments and other tax updates.</span></strong></span><br />\n<br />\n<br />\n<strong style="color: rgb(32\, 32\, 32)\; font-family: Helvetica\; font-size: 16px\;">We encourage you to pick up lunch in advance at one of these&nbsp\;Chamber&nbsp\;restaurants.</strong><br style="color: rgb(32\, 32\, 32)\; font-family: Helvetica\; font-size: 16px\;" />\n<br style="color: rgb(32\, 32\, 32)\; font-family: Helvetica\; font-size: 16px\;" />\n<span style="font-family: Helvetica\; font-size: 16px\; color: rgb(178\, 34\, 34)\;"><em>Your comfort and safety is important to us. Please call ahead to your restaurant of choice to confirm they have an environment compatible to your desires and safety needs.&nbsp\;</em></span><br style="color: rgb(32\, 32\, 32)\; font-family: Helvetica\; font-size: 16px\;" />\n<br style="color: rgb(32\, 32\, 32)\; font-family: Helvetica\; font-size: 16px\;" />\n<span style="color: rgb(32\, 32\, 32)\; font-family: Helvetica\; font-size: 16px\;">Alfie&#39\;s&nbsp\; &nbsp\;</span><br style="color: rgb(32\, 32\, 32)\; font-family: Helvetica\; font-size: 16px\;" />\n<span style="color: rgb(32\, 32\, 32)\; font-family: Helvetica\; font-size: 16px\;">(740) 321-1111&nbsp\;</span><br style="color: rgb(32\, 32\, 32)\; font-family: Helvetica\; font-size: 16px\;" />\n<br style="color: rgb(32\, 32\, 32)\; font-family: Helvetica\; font-size: 16px\;" />\n<span style="color: rgb(32\, 32\, 32)\; font-family: Helvetica\; font-size: 16px\;">SteamRoller Bagel&nbsp\; &nbsp\;</span><br style="color: rgb(32\, 32\, 32)\; font-family: Helvetica\; font-size: 16px\;" />\n<span style="color: rgb(32\, 32\, 32)\; font-family: Helvetica\; font-size: 16px\;">(740) 777-9145</span><br style="color: rgb(32\, 32\, 32)\; font-family: Helvetica\; font-size: 16px\;" />\n<br style="color: rgb(32\, 32\, 32)\; font-family: Helvetica\; font-size: 16px\;" />\n<span style="color: rgb(32\, 32\, 32)\; font-family: Helvetica\; font-size: 16px\;">Broadway Pub&nbsp\; &nbsp\;</span><br style="color: rgb(32\, 32\, 32)\; font-family: Helvetica\; font-size: 16px\;" />\n<span style="color: rgb(32\, 32\, 32)\; font-family: Helvetica\; font-size: 16px\;">(740) 587-0252&nbsp\; &nbsp\; &nbsp\;</span><br style="color: rgb(32\, 32\, 32)\; font-family: Helvetica\; font-size: 16px\;" />\n<br style="color: rgb(32\, 32\, 32)\; font-family: Helvetica\; font-size: 16px\;" />\n<span style="color: rgb(32\, 32\, 32)\; font-family: Helvetica\; font-size: 16px\;">Palumbo&#39\;s&nbsp\; &nbsp\;</span><br style="color: rgb(32\, 32\, 32)\; font-family: Helvetica\; font-size: 16px\;" />\n<span style="color: rgb(32\, 32\, 32)\; font-family: Helvetica\; font-size: 16px\;">(740) 587-0409&nbsp\; &nbsp\; &nbsp\;&nbsp\;</span><br style="color: rgb(32\, 32\, 32)\; font-family: Helvetica\; font-size: 16px\;" />\n<br style="color: rgb(32\, 32\, 32)\; font-family: Helvetica\; font-size: 16px\;" />\n<span style="color: rgb(32\, 32\, 32)\; font-family: Helvetica\; font-size: 16px\;">Day Y Noche&nbsp\; &nbsp\;</span><br style="color: rgb(32\, 32\, 32)\; font-family: Helvetica\; font-size: 16px\;" />\n<span style="color: rgb(32\, 32\, 32)\; font-family: Helvetica\; font-size: 16px\;">(740) 587-0204&nbsp\;&nbsp\;&nbsp\;&nbsp\;&nbsp\;</span><br style="color: rgb(32\, 32\, 32)\; font-family: Helvetica\; font-size: 16px\;" />\n<br style="color: rgb(32\, 32\, 32)\; font-family: Helvetica\; font-size: 16px\;" />\n<span style="color: rgb(32\, 32\, 32)\; font-family: Helvetica\; font-size: 16px\;">Mai Chau / Three Tigers</span><br style="color: rgb(32\, 32\, 32)\; font-family: Helvetica\; font-size: 16px\;" />\n<span style="color: rgb(32\, 32\, 32)\; font-family: Helvetica\; font-size: 16px\;">(740) 920-4680</span><br style="color: rgb(32\, 32\, 32)\; font-family: Helvetica\; font-size: 16px\;" />\n<br style="color: rgb(32\, 32\, 32)\; font-family: Helvetica\; font-size: 16px\;" />\n<span style="color: rgb(32\, 32\, 32)\; font-family: Helvetica\; font-size: 16px\;">Donatos&nbsp\; &nbsp\;</span><br style="color: rgb(32\, 32\, 32)\; font-family: Helvetica\; font-size: 16px\;" />\n<span style="color: rgb(32\, 32\, 32)\; font-family: Helvetica\; font-size: 16px\;">(740) 920-4774&nbsp\;&nbsp\;&nbsp\;&nbsp\;&nbsp\;</span><br style="color: rgb(32\, 32\, 32)\; font-family: Helvetica\; font-size: 16px\;" />\n<span style="color: rgb(32\, 32\, 32)\; font-family: Helvetica\; font-size: 16px\;">&nbsp\; &nbsp\; &nbsp\;</span><br style="color: rgb(32\, 32\, 32)\; font-family: Helvetica\; font-size: 16px\;" />\n<span style="color: rgb(32\, 32\, 32)\; font-family: Helvetica\; font-size: 16px\;">Village Coffee Company</span><br style="color: rgb(32\, 32\, 32)\; font-family: Helvetica\; font-size: 16px\;" />\n<span style="color: rgb(32\, 32\, 32)\; font-family: Helvetica\; font-size: 16px\;">(740) 587-4940</span><br style="color: rgb(32\, 32\, 32)\; font-family: Helvetica\; font-size: 16px\;" />\n<br style="color: rgb(32\, 32\, 32)\; font-family: Helvetica\; font-size: 16px\;" />\n<span style="color: rgb(32\, 32\, 32)\; font-family: Helvetica\; font-size: 16px\;">Knucklehead&#39\;s&nbsp\; &nbsp\;</span><br style="color: rgb(32\, 32\, 32)\; font-family: Helvetica\; font-size: 16px\;" />\n<span style="color: rgb(32\, 32\, 32)\; font-family: Helvetica\; font-size: 16px\;">(740) 587-0850</span><br style="color: rgb(32\, 32\, 32)\; font-family: Helvetica\; font-size: 16px\;" />\n<br style="color: rgb(32\, 32\, 32)\; font-family: Helvetica\; font-size: 16px\;" />\n<span style="color: rgb(32\, 32\, 32)\; font-family: Helvetica\; font-size: 16px\;">Prospect St. Smoothie&nbsp\; &nbsp\;</span><br style="color: rgb(32\, 32\, 32)\; font-family: Helvetica\; font-size: 16px\;" />\n<span style="color: rgb(32\, 32\, 32)\; font-family: Helvetica\; font-size: 16px\;">(740) 364-8983&nbsp\;</span>
LOCATION:
UID:e.180.14745
SEQUENCE:3
DTSTAMP:20260422T003228Z
URL:https://business.granvilleoh.com/events/details/virtual-member-meeting-luncheon-14745
END:VEVENT

END:VCALENDAR
