BEGIN:VCALENDAR
VERSION:2.0
PRODID:-//ChamberMaster//Event Calendar 2.0//EN
METHOD:PUBLISH
X-PUBLISHED-TTL:P3D
REFRESH-INTERVAL:P3D
CALSCALE:GREGORIAN
BEGIN:VEVENT
DTSTART:20210317T153000Z
DTEND:20210317T170000Z
X-MICROSOFT-CDO-ALLDAYEVENT:FALSE
SUMMARY:(Virtual) Member Meeting & Luncheon: Growing Your Community
DESCRIPTION:As Spring approaches\, it's time to see our community get moving again. We will be sharing programs that will give you a chance to reconnect responsibly\, broaden the reach of our attractions\, and showcase our strength as a community.\n\n\n\nJoin us as we hear from the Granville Recreation District\, Licking Land Trust\, and Licking County Recycling on the topic of growing an attractive community to work\, live\, and play. \n\n\n\nA link to access the meeting will be sent to you prior to the luncheon.\n\n\n\n                  \n\n\n\nTo celebrate St. Patrick's Day\, we will be gifting the most festive attendee a gift card from Three Tiger's Brewery  \n\n\n\nWe will select another winner at random to win a gift card from Homestead Brewery  \n\n\n\nWe encourage you to pick up lunch in advance at one of these Chamber restaurants.\n\n\n\nYour comfort and safety is important to us. Please call ahead to your restaurant of choice to confirm they have an environment compatible to your desires and safety needs. \n\n\n\nPalumbo's   \n\n(740) 587-0409      \n\n\n\nVillage Coffee Company\n\n(740) 587-4940\n\n\n\nMai Chau / Three Tigers\n\n(740) 920-4680\n\n\n\nSteamRoller Bagel   \n\n(740) 777-9145\n\n\n\nAlfie's   \n\n(740) 321-1111 \n\n\n\nKnucklehead's   \n\n(740) 587-0850\n\n\n\nProspect St. Smoothie  \n\n(740) 364-8983\n\n\n\nDay Y Noche   \n\n(740) 587-0204     \n\n\n\nBroadway Pub   \n\n(740) 587-0252   \n\n\n\nDonatos   \n\n(740) 920-4774
X-ALT-DESC;FMTTYPE=text/html:As Spring approaches\, it&#39\;s time to see our community get moving again. We will be sharing programs that will give you a chance to reconnect responsibly\, broaden the reach of our attractions\, and showcase our strength as a community.<br />\n<br />\nJoin us as we hear from the Granville Recreation District\, Licking Land Trust\, and Licking County Recycling on the topic of growing an attractive community to work\, live\, and play.&nbsp\;<br />\n<br />\nA link to access the meeting will be sent to you prior to the luncheon.<br />\n<br />\n&#9752\;&#65039\;&#9752\;&#65039\;&#9752\;&#65039\;&#9752\;&#65039\;&#9752\;&#65039\;&#9752\;&#65039\;&#9752\;&#65039\;&#9752\;&#65039\;&#9752\;&#65039\;<br />\n<br />\nTo celebrate St. Patrick&#39\;s Day\, we will be gifting the most festive attendee a gift card from Three Tiger&#39\;s Brewery&nbsp\;&#127866\;<br />\n<br />\nWe will select another winner at random to win a gift card from Homestead Brewery&nbsp\;&#127866\;<br />\n<br />\n<strong>We encourage you to pick up lunch in advance at one of these&nbsp\;Chamber&nbsp\;restaurants.</strong><br />\n<br />\n<em>Your comfort and safety is important to us. Please call ahead to your restaurant of choice to confirm they have an environment compatible to your desires and safety needs.&nbsp\;</em><br />\n<br />\nPalumbo&#39\;s&nbsp\; &nbsp\;<br />\n(740) 587-0409&nbsp\; &nbsp\; &nbsp\;&nbsp\;<br />\n<br />\nVillage Coffee Company<br />\n(740) 587-4940<br />\n<br />\nMai Chau / Three Tigers<br />\n(740) 920-4680<br />\n<br />\nSteamRoller Bagel&nbsp\; &nbsp\;<br />\n(740) 777-9145<br />\n<br />\nAlfie&#39\;s&nbsp\; &nbsp\;<br />\n(740) 321-1111&nbsp\;<br />\n<br />\nKnucklehead&#39\;s&nbsp\; &nbsp\;<br />\n(740) 587-0850<br />\n<br />\nProspect St. Smoothie&nbsp\;&nbsp\;<br />\n(740) 364-8983<br />\n<br />\nDay Y Noche&nbsp\; &nbsp\;<br />\n(740) 587-0204&nbsp\;&nbsp\;&nbsp\;&nbsp\;&nbsp\;<br />\n<br />\nBroadway Pub&nbsp\; &nbsp\;<br />\n(740) 587-0252&nbsp\; &nbsp\;<br />\n<br />\nDonatos&nbsp\; &nbsp\;<br />\n(740) 920-4774&nbsp\;&nbsp\;&nbsp\;&nbsp\;&nbsp\;<br />\n&nbsp\;
LOCATION:Please register for zoom link
UID:e.180.14758
SEQUENCE:3
DTSTAMP:20260421T231226Z
URL:https://business.granvilleoh.com/events/details/virtual-member-meeting-luncheon-growing-your-community-14758
END:VEVENT

END:VCALENDAR
