BEGIN:VCALENDAR
VERSION:2.0
PRODID:-//ChamberMaster//Event Calendar 2.0//EN
METHOD:PUBLISH
X-PUBLISHED-TTL:P3D
REFRESH-INTERVAL:P3D
CALSCALE:GREGORIAN
BEGIN:VEVENT
DTSTART:20200603T153000Z
DTEND:20200603T170000Z
X-MICROSOFT-CDO-ALLDAYEVENT:FALSE
SUMMARY:(Virtual) Member Meeting & Luncheon next Weds 6/3 from 11:30 am to 1:00 pm via Zoom
DESCRIPTION:Attention All GACC Members and Area Residents....\n\nThe long anticipated 37/661 Bridge Replacement Project has begun and this construction will impact travel and traffic in and around Granville in phases through this Summer and next. Click here for a link to the Village's website and a short 7-minute video clip that provides an overview of the entire project.  \n\n \n\nhttps://www.granville.oh.us/37-bridge-project\n\n  \n\nJoin us for our next (Virtual) Member Meeting & Luncheon which will feature Granville Village Manager Herb Koehler who will present a talk on the Rte 37/661 Bridge Project and what we can expect during the construction. This meeting will be conducted via Zoom and there will be opportunity for Q & A following the presentation.
X-ALT-DESC;FMTTYPE=text/html:<strong><span style="color:#333333\;"><span style="font-family:calibri\,sans-serif\;"><span style="font-size:15.0pt\;">Attention&nbsp\;All GACC Members and Area Residents....</span></span></span></strong><br />\n<span style="color:#333333\;"><span style="font-family:georgia\,serif\;"><span style="font-size:10.5pt\;">The long anticipated 37/661 Bridge Replacement Project has begun and this construction will impact travel and traffic in and around Granville in phases through this Summer and next.&nbsp\;Click here for a link to the Village&rsquo\;s website and a short 7-minute video clip that provides an overview of the entire project.&nbsp\;&nbsp\;</span></span></span><br />\n&nbsp\;<br />\n<span style="color:#7E7E7E\;"><span style="font-family:georgia\,serif\;"><span style="font-size:10.5pt\;"><a href="http://r20.rs6.net/tn.jsp?f=001Z5NIQopePvL-sJHxTdhmU4wHzeNBmpTFpeQke5DV5rDDHwfE5C7N-3tk-0mpHHMn-5_7OCeZdXA_FJIkjcWY6TAZyBVD37Z_HRvVY76u14X-TPLrkwEbCyDNbrwxurLNSWs3wZNHAIS76LpbzHFprJ6Cii4onxIWU1hAaqPJ-Q8=&amp\;c=071W62LINrYgfplY-a7uNLlvPpqNXczJrlb91kc_Jaohku3aRVCjdQ==&amp\;ch=kcOze9_nIp2_J2qEikp5VbnU3btFWYrbkDnBkRpdxLGCZ5Ch8j4T8Q==" target="_blank"><strong><em><span style="text-decoration-line:none\;"><span style="color:#004db4\;">https://www.granville.oh.us/37-bridge-project</span></span></em></strong></a></span></span></span><br />\n&nbsp\;&nbsp\;<br />\n<span style="color:#141414\;"><span style="font-family:georgia\,serif\;"><span style="font-size:11.5pt\;">Join us for our next (Virtual) Member Meeting &amp\; Luncheon which will feature Granville Village Manager Herb Koehler who will present a talk on the Rte 37/661 Bridge Project and what we can expect during the construction.&nbsp\;This meeting will be conducted via Zoom and there will be opportunity for Q &amp\; A following the presentation.&nbsp\;</span></span></span>
LOCATION:Stephen Matheny is inviting you to a scheduled Zoom meeting. Topic: Member Meeting & Luncheon Time: Jun 3\, 2020 11:30 AM Eastern Time (US and Canada) Join Zoom Meeting https://us02web.zoom.us/j/87632920852?pwd=YzdqVHNLckNsUDZ2TW5CSTVWZ25QZz09 Meeting ID: 876 3292 0852 Password: 173893 One tap mobile +16465588656\,\,87632920852#\,\,1#\,173893# US (New York) +13017158592\,\,87632920852#\,\,1#\,173893# US (Germantown) Dial by your location +1 646 558 8656 US (New York) +1 301 715 8592 US (Germantown) +1 312 626 6799 US (Chicago) +1 669 900 9128 US (San Jose) +1 253 215 8782 US (Tacoma) +1 346 248 7799 US (Houston) Meeting ID: 876 3292 0852 Password: 173893 Find your local number: https://us02web.zoom.us/u/kcsvznzx0i
UID:e.180.14505
SEQUENCE:3
DTSTAMP:20260422T102605Z
URL:https://business.granvilleoh.com/events/details/virtual-member-meeting-luncheon-next-weds-6-3-from-11-30-am-to-1-00-pm-via-zoom-14505
END:VEVENT

END:VCALENDAR
