BEGIN:VCALENDAR
VERSION:2.0
PRODID:-//ChamberMaster//Event Calendar 2.0//EN
METHOD:PUBLISH
X-PUBLISHED-TTL:P3D
REFRESH-INTERVAL:P3D
CALSCALE:GREGORIAN
BEGIN:VEVENT
DTSTART:20210121T163000Z
DTEND:20210121T180000Z
X-MICROSOFT-CDO-ALLDAYEVENT:FALSE
SUMMARY:(Virtual) Member Meeting & Luncheon: State of the Chamber
DESCRIPTION:Please join us for our January Member Meeting & Luncheon during which we will provide a "State of the Chamber" talk which will recap elements of the year 2020 and provide overview and insight into plans and objectives for 2021.\n\n\n\nWe encourage you to pick up lunch in advance at one of these Chamber restaurants:\n\n \n\nBroadway Pub    (740) 587-0252      Knucklehead's                 (740) 587-0850\n\nDay Y Noche      (740) 587-0204      Prospect St. Smoothie    (740) 364-8983 \n\nDonatos              (740) 920-4774      SteamRoller Bagel          (740) 777-9145\n\nAlfie's                  (740) 321-1111       Mai Chau / Three Tigers (740) 920-4680\n\nPalumbo's           (740) 587-0409
X-ALT-DESC;FMTTYPE=text/html:Please join us for our January Member Meeting &amp\; Luncheon during which we will provide a &quot\;State of the Chamber&quot\; talk which will recap elements of the year 2020 and provide overview and insight into plans and objectives for 2021.<br />\n<br />\nWe encourage you to pick up lunch in advance at one of these Chamber restaurants:<br />\n&nbsp\;<br />\nBroadway Pub&nbsp\; &nbsp\; (740) 587-0252&nbsp\; &nbsp\; &nbsp\; Knucklehead&#39\;s&nbsp\; &nbsp\; &nbsp\; &nbsp\; &nbsp\; &nbsp\; &nbsp\; &nbsp\; &nbsp\;(740) 587-0850<br />\nDay Y Noche&nbsp\;&nbsp\;&nbsp\;&nbsp\;&nbsp\; (740) 587-0204&nbsp\;&nbsp\;&nbsp\;&nbsp\;&nbsp\; Prospect St. Smoothie&nbsp\; &nbsp\; (740) 364-8983&nbsp\;<br />\nDonatos&nbsp\;&nbsp\;&nbsp\;&nbsp\;&nbsp\;&nbsp\;&nbsp\;&nbsp\;&nbsp\;&nbsp\;&nbsp\;&nbsp\;&nbsp\; (740) 920-4774&nbsp\;&nbsp\;&nbsp\;&nbsp\;&nbsp\; SteamRoller Bagel&nbsp\; &nbsp\; &nbsp\; &nbsp\; &nbsp\;&nbsp\;(740) 777-9145<br />\nAlfie&#39\;s&nbsp\;&nbsp\;&nbsp\;&nbsp\;&nbsp\;&nbsp\;&nbsp\;&nbsp\;&nbsp\;&nbsp\;&nbsp\;&nbsp\;&nbsp\;&nbsp\;&nbsp\;&nbsp\;&nbsp\; (740) 321-1111&nbsp\; &nbsp\; &nbsp\; &nbsp\;Mai Chau / Three Tigers (740) 920-4680<br />\nPalumbo&#39\;s&nbsp\; &nbsp\; &nbsp\; &nbsp\; &nbsp\; &nbsp\;(740) 587-0409&nbsp\; &nbsp\; &nbsp\;&nbsp\;<br />\n&nbsp\;
LOCATION:Please register for zoom link
UID:e.180.14708
SEQUENCE:3
DTSTAMP:20260422T005746Z
URL:https://business.granvilleoh.com/events/details/virtual-member-meeting-luncheon-state-of-the-chamber-14708
END:VEVENT

END:VCALENDAR
