BEGIN:VCALENDAR
VERSION:2.0
PRODID:-//ChamberMaster//Event Calendar 2.0//EN
METHOD:PUBLISH
X-PUBLISHED-TTL:P3D
REFRESH-INTERVAL:P3D
CALSCALE:GREGORIAN
BEGIN:VEVENT
DTSTART:20200520T153000Z
DTEND:20200520T170000Z
X-MICROSOFT-CDO-ALLDAYEVENT:FALSE
SUMMARY:(Virtual) Monthly Member Meeting & Luncheon
DESCRIPTION:Join us for a virtual member meeting and luncheon! Chad Brown and Greg Chumney from the Licking County Health Department will share valuable comments and guidance regarding best practices during this public health emergency.\n\n\n\nPLEASE NOTE:  You are encouraged to purchase a take out lunch of your choosing from your favorite local CHAMBER MEMBER business and proudly share the name of that restaurant at the start of our virtual luncheon gathering! Remember to SUPPORT LOCAL!
X-ALT-DESC;FMTTYPE=text/html:<div>&nbsp\;</div>\n\n<div><span style="color: rgb(35\, 35\, 51)\; font-family: Lato\, Helvetica\, Arial\; font-size: 14px\; background-color: rgb(255\, 255\, 255)\;">Join us for a virtual member meeting and luncheon! Chad Brown and Greg Chumney from the Licking County Health Department will share valuable comments and guidance regarding best practices during this public health emergency.<br />\n<br />\nPLEASE NOTE:&nbsp\; You are encouraged to purchase a take out lunch of your choosing from your favorite local CHAMBER MEMBER business and proudly share the name of that restaurant at the start of our virtual luncheon gathering! Remember to SUPPORT LOCAL!</span></div>\n
LOCATION:Stephen Matheny is inviting you to a scheduled Zoom meeting. Topic: Monthly Member Meeting & Luncheon Time: May 20\, 2020 11:30 AM Eastern Time (US and Canada) Join Zoom Meeting https://us02web.zoom.us/j/85629162622?pwd=Z1BxTVoyUmgxZi9ydnVLbURPTTdSQT09 Meeting ID: 856 2916 2622 Password: 414817 One tap mobile +16465588656\,\,85629162622#\,\,1#\,414817# US (New York) +13017158592\,\,85629162622#\,\,1#\,414817# US (Germantown) Dial by your location +1 646 558 8656 US (New York) +1 301 715 8592 US (Germantown) +1 312 626 6799 US (Chicago) +1 669 900 9128 US (San Jose) +1 253 215 8782 US (Tacoma) +1 346 248 7799 US (Houston) Meeting ID: 856 2916 2622 Password: 414817 Find your local number: https://us02web.zoom.us/u/kcPg9SkXB5
UID:e.180.14494
SEQUENCE:3
DTSTAMP:20260422T113731Z
URL:https://business.granvilleoh.com/events/details/virtual-monthly-member-meeting-luncheon-14494
END:VEVENT

END:VCALENDAR
